Workbook

Sheet January
A1: January | F1: OVERVIEW | L1: LEFT TO SPEND | Q1: DAYS LEFT
F2: Start of Month | I2: 45658 | L2: =D16 -> 0 | Q2: =IF(TODAY()>DATE(YEAR(I2),MONTH(I2)+1,0),0,DATE(YEAR(I2),MONTH(I2)+1,0)-TODAY()+1) -> 0
F3: End of Month | I3: 45688
F4: Change Currency | I4: €
F5: Your Name
F6: Start Balance
A8: CASHFLOW
C9: BUDGET | D9: ACTUAL
A10: + Balance | C10: 0 | D10: 0
A11: + Income | C11: =C32 -> 0 | D11: =D32 -> 0
A12: - Bills | C12: =I48 -> 0 | D12: =J48 -> 0
A13: - Expenses | C13: =M48 -> 0 | D13: =N48 -> 0
A14: - Debt | C14: =T48 -> 0 | D14: =U48 -> 0
A15: - Savings | C15: =C48 -> 0 | D15: =D48 -> 0
A16: LEFT | C16: =C10+C11-C12-C13-C14-C15 -> 0 | D16: =D10+D11-D12-D13-D14-D15 -> 0
A18: INCOME | F18: BILLS | L18: EXPENSES | Q18: DEBT
A19: CATEGORY | C19: BUDGET | D19: ACTUAL | F19: CATEGORY | H19: DUE | I19: BUDGET | J19: ACTUAL | L19: CATEGORY | M19: BUDGET | N19: ACTUAL | O19: LEFT | Q19: CATEGORY | S19: DUE | T19: BUDGET | U19: ACTUAL
A20: Paycheck | F20: FALSE | G20: Internet | L20: Groceries | O20: =M20-N20 -> 0 | Q20: FALSE
A21: Business | F21: FALSE | G21: Water | L21: Dining out | O21: =M21-N21 -> 0 | Q21: FALSE
A22: Bonus | F22: FALSE | G22: Electricity | L22: Transport | O22: =M22-N22 -> 0 | Q22: FALSE
A23: Gifts | F23: FALSE | G23: Rent | L23: Household | O23: =M23-N23 -> 0 | Q23: FALSE
F24: FALSE | G24: Mobile | L24: Education | O24: =M24-N24 -> 0 | Q24: FALSE
F25: FALSE | G25: Health Insurance | L25: Health | O25: =M25-N25 -> 0 | Q25: FALSE
F26: FALSE | G26: Gas | L26: Beauty | O26: =M26-N26 -> 0 | Q26: FALSE
F27: FALSE | G27: Spotify | L27: Gifts | O27: =M27-N27 -> 0 | Q27: FALSE
F28: FALSE | G28: Netflix | L28: Clothes | O28: =M28-N28 -> 0 | Q28: FALSE
F29: FALSE | G29: Disney Plus | L29: Entertainment | O29: =M29-N29 -> 0 | Q29: FALSE
F30: FALSE | G30: Maintenance | L30: Miscellaneous | O30: =M30-N30 -> 0 | Q30: FALSE
F31: FALSE | G31: Car | O31: =M31-N31 -> 0 | Q31: FALSE
A32: TOTAL | C32: =SUM(C20:C31) -> 0 | D32: =SUM(D20:D31) -> 0 | F32: FALSE | O32: =M32-N32 -> 0 | Q32: FALSE
F33: FALSE | O33: =M33-N33 -> 0 | Q33: FALSE
A34: SAVINGS | F34: FALSE | O34: =M34-N34 -> 0 | Q34: FALSE
A35: CATEGORIE | C35: BUDGET | D35: ACTUAL | F35: FALSE | O35: =M35-N35 -> 0 | Q35: FALSE
A36: FALSE | B36: Car | F36: FALSE | O36: =M36-N36 -> 0 | Q36: FALSE
A37: FALSE | B37: House | F37: FALSE | O37: =M37-N37 -> 0 | Q37: FALSE
A38: FALSE | F38: FALSE | O38: =M38-N38 -> 0 | Q38: FALSE
A39: FALSE | F39: FALSE | O39: =M39-N39 -> 0 | Q39: FALSE
A40: FALSE | F40: FALSE | O40: =M40-N40 -> 0 | Q40: FALSE
A41: FALSE | F41: FALSE | O41: =M41-N41 -> 0 | Q41: FALSE
A42: FALSE | F42: FALSE | O42: =M42-N42 -> 0 | Q42: FALSE
...

Sheet February
A1: February | F1: OVERVIEW | L1: LEFT TO SPEND | Q1: DAYS LEFT
F2: Start of Month | I2: 45689 | L2: =D16 -> 0 | Q2: =IF(TODAY()>DATE(YEAR(I2),MONTH(I2)+1,0),0,DATE(YEAR(I2),MONTH(I2)+1,0)-TODAY()+1) -> 0
F3: End of Month | I3: 45716
F4: Change Currency | I4: €
F5: Your Name
F6: Start Balance | I6: =January!D16 -> 0
A8: CASHFLOW
C9: BUDGET | D9: ACTUAL
A10: + Balance | C10: 0 | D10: 0
A11: + Income | C11: =C32 -> 0 | D11: =D32 -> 0
A12: - Bills | C12: =I48 -> 0 | D12: =J48 -> 0
A13: - Expenses | C13: =M48 -> 0 | D13: =N48 -> 0
A14: - Debt | C14: =T48 -> 0 | D14: =U48 -> 0
A15: - Savings | C15: =C48 -> 0 | D15: =D48 -> 0
A16: LEFT | C16: =C10+C11-C12-C13-C14-C15 -> 0 | D16: =D10+D11-D12-D13-D14-D15 -> 0
A18: INCOME | F18: BILLS | L18: EXPENSES | Q18: DEBT
A19: CATEGORY | C19: BUDGET | D19: ACTUAL | F19: CATEGORY | H19: DUE | I19: BUDGET | J19: ACTUAL | L19: CATEGORY | M19: BUDGET | N19: ACTUAL | O19: LEFT | Q19: CATEGORY | S19: DUE | T19: BUDGET | U19: ACTUAL
A20: =IF(January!A20="","",January!A20) -> Paycheck | F20: FALSE | G20: =IF(January!G20="","",January!G20) -> Internet | L20: =IF(January!L20="","",January!L20) -> Groceries | O20: =M20-N20 -> 0 | Q20: FALSE | R20: =IF(January!R20="","",January!R20)
A21: =IF(January!A21="","",January!A21) -> Business | F21: FALSE | G21: =IF(January!G21="","",January!G21) -> Water | L21: =IF(January!L21="","",January!L21) -> Dining out | O21: =M21-N21 -> 0 | Q21: FALSE | R21: =IF(January!R21="","",January!R21)
A22: =IF(January!A22="","",January!A22) -> Bonus | F22: FALSE | G22: =IF(January!G22="","",January!G22) -> Electricity | L22: =IF(January!L22="","",January!L22) -> Transport | O22: =M22-N22 -> 0 | Q22: FALSE | R22: =IF(January!R22="","",January!R22)
A23: =IF(January!A23="","",January!A23) -> Gifts | F23: FALSE | G23: =IF(January!G23="","",January!G23) -> Rent | L23: =IF(January!L23="","",January!L23) -> Household | O23: =M23-N23 -> 0 | Q23: FALSE | R23: =IF(January!R23="","",January!R23)
A24: =IF(January!A24="","",January!A24) | F24: FALSE | G24: =IF(January!G24="","",January!G24) -> Mobile | L24: =IF(January!L24="","",January!L24) -> Education | O24: =M24-N24 -> 0 | Q24: FALSE | R24: =IF(January!R24="","",January!R24)
A25: =IF(January!A25="","",January!A25) | F25: FALSE | G25: =IF(January!G25="","",January!G25) -> Health Insurance | L25: =IF(January!L25="","",January!L25) -> Health | O25: =M25-N25 -> 0 | Q25: FALSE | R25: =IF(January!R25="","",January!R25)
A26: =IF(January!A26="","",January!A26) | F26: FALSE | G26: =IF(January!G26="","",January!G26) -> Gas | L26: =IF(January!L26="","",January!L26) -> Beauty | O26: =M26-N26 -> 0 | Q26: FALSE | R26: =IF(January!R26="","",January!R26)
A27: =IF(January!A27="","",January!A27) | F27: FALSE | G27: =IF(January!G27="","",January!G27) -> Spotify | L27: =IF(January!L27="","",January!L27) -> Gifts | O27: =M27-N27 -> 0 | Q27: FALSE | R27: =IF(January!R27="","",January!R27)
A28: =IF(January!A28="","",January!A28) | F28: FALSE | G28: =IF(January!G28="","",January!G28) -> Netflix | L28: =IF(January!L28="","",January!L28) -> Clothes | O28: =M28-N28 -> 0 | Q28: FALSE | R28: =IF(January!R28="","",January!R28)
A29: =IF(January!A29="","",January!A29) | F29: FALSE | G29: =IF(January!G29="","",January!G29) -> Disney Plus | L29: =IF(January!L29="","",January!L29) -> Entertainment | O29: =M29-N29 -> 0 | Q29: FALSE | R29: =IF(January!R29="","",January!R29)
A30: =IF(January!A30="","",January!A30) | F30: FALSE | G30: =IF(January!G30="","",January!G30) -> Maintenance | L30: =IF(January!L30="","",January!L30) -> Miscellaneous | O30: =M30-N30 -> 0 | Q30: FALSE | R30: =IF(January!R30="","",January!R30)
A31: =IF(January!A31="","",January!A31) | F31: FALSE | G31: =IF(January!G31="","",January!G31) -> Car | L31: =IF(January!L31="","",January!L31) | O31: =M31-N31 -> 0 | Q31: FALSE | R31: =IF(January!R31="","",January!R31)
A32: TOTAL | C32: =SUM(C20:C31) -> 0 | D32: =SUM(D20:D31) -> 0 | F32: FALSE | G32: =IF(January!G32="","",January!G32) | L32: =IF(January!L32="","",January!L32) | O32: =M32-N32 -> 0 | Q32: FALSE | R32: =IF(January!R32="","",January!R32)
F33: FALSE | G33: =IF(January!G33="","",January!G33) | L33: =IF(January!L33="","",January!L33) | O33: =M33-N33 -> 0 | Q33: FALSE | R33: =IF(January!R33="","",January!R33)
A34: SAVINGS | F34: FALSE | G34: =IF(January!G34="","",January!G34) | L34: =IF(January!L34="","",January!L34) | O34: =M34-N34 -> 0 | Q34: FALSE | R34: =IF(January!R34="","",January!R34)
A35: CATEGORIE | C35: BUDGET | D35: ACTUAL | F35: FALSE | G35: =IF(January!G35="","",January!G35) | L35: =IF(January!L35="","",January!L35) | O35: =M35-N35 -> 0 | Q35: FALSE | R35: =IF(January!R35="","",January!R35)
A36: FALSE | B36: =IF(January!B36="","",January!B36) -> Car | F36: FALSE | G36: =IF(January!G36="","",January!G36) | L36: =IF(January!L36="","",January!L36) | O36: =M36-N36 -> 0 | Q36: FALSE | R36: =IF(January!R36="","",January!R36)
A37: FALSE | B37: =IF(January!B37="","",January!B37) -> House | F37: FALSE | G37: =IF(January!G37="","",January!G37) | L37: =IF(January!L37="","",January!L37) | O37: =M37-N37 -> 0 | Q37: FALSE | R37: =IF(January!R37="","",January!R37)
A38: FALSE | B38: =IF(January!B38="","",January!B38) | F38: FALSE | G38: =IF(January!G38="","",January!G38) | L38: =IF(January!L38="","",January!L38) | O38: =M38-N38 -> 0 | Q38: FALSE | R38: =IF(January!R38="","",January!R38)
A39: FALSE | B39: =IF(January!B39="","",January!B39) | F39: FALSE | G39: =IF(January!G39="","",January!G39) | L39: =IF(January!L39="","",January!L39) | O39: =M39-N39 -> 0 | Q39: FALSE | R39: =IF(January!R39="","",January!R39)
A40: FALSE | B40: =IF(January!B40="","",January!B40) | F40: FALSE | G40: =IF(January!G40="","",January!G40) | L40: =IF(January!L40="","",January!L40) | O40: =M40-N40 -> 0 | Q40: FALSE | R40: =IF(January!R40="","",January!R40)
A41: FALSE | B41: =IF(January!B41="","",January!B41) | F41: FALSE | G41: =IF(January!G41="","",January!G41) | L41: =IF(January!L41="","",January!L41) | O41: =M41-N41 -> 0 | Q41: FALSE | R41: =IF(January!R41="","",January!R41)
A42: FALSE | B42: =IF(January!B42="","",January!B42) | F42: FALSE | G42: =IF(January!G42="","",January!G42) | L42: =IF(January!L42="","",January!L42) | O42: =M42-N42 -> 0 | Q42: FALSE | R42: =IF(January!R42="","",January!R42)
...

Sheet March
A1: March | F1: OVERVIEW | L1: LEFT TO SPEND | Q1: DAYS LEFT
F2: Start of Month | I2: 45717 | L2: =D16 -> 0 | Q2: =IF(TODAY()>DATE(YEAR(I2),MONTH(I2)+1,0),0,DATE(YEAR(I2),MONTH(I2)+1,0)-TODAY()+1) -> 0
F3: End of Month | I3: 45747
F4: Change Currency | I4: €
F5: Your Name
F6: Start Balance | I6: =February!D16 -> 0
A8: CASHFLOW
C9: BUDGET | D9: ACTUAL
A10: + Balance | C10: 0 | D10: 0
A11: + Income | C11: =C32 -> 0 | D11: =D32 -> 0
A12: - Bills | C12: =I48 -> 0 | D12: =J48 -> 0
A13: - Expenses | C13: =M48 -> 0 | D13: =N48 -> 0
A14: - Debt | C14: =T48 -> 0 | D14: =U48 -> 0
A15: - Savings | C15: =C48 -> 0 | D15: =D48 -> 0
A16: LEFT | C16: =C10+C11-C12-C13-C14-C15 -> 0 | D16: =D10+D11-D12-D13-D14-D15 -> 0
A18: INCOME | F18: BILLS | L18: EXPENSES | Q18: DEBT
A19: CATEGORY | C19: BUDGET | D19: ACTUAL | F19: CATEGORY | H19: DUE | I19: BUDGET | J19: ACTUAL | L19: CATEGORY | M19: BUDGET | N19: ACTUAL | O19: LEFT | Q19: CATEGORY | S19: DUE | T19: BUDGET | U19: ACTUAL
A20: =IF(January!A20="","",January!A20) -> Paycheck | F20: FALSE | G20: =IF(January!G20="","",January!G20) -> Internet | L20: =IF(January!L20="","",January!L20) -> Groceries | O20: =M20-N20 -> 0 | Q20: FALSE | R20: =IF(January!R20="","",January!R20)
A21: =IF(January!A21="","",January!A21) -> Business | F21: FALSE | G21: =IF(January!G21="","",January!G21) -> Water | L21: =IF(January!L21="","",January!L21) -> Dining out | O21: =M21-N21 -> 0 | Q21: FALSE | R21: =IF(January!R21="","",January!R21)
A22: =IF(January!A22="","",January!A22) -> Bonus | F22: FALSE | G22: =IF(January!G22="","",January!G22) -> Electricity | L22: =IF(January!L22="","",January!L22) -> Transport | O22: =M22-N22 -> 0 | Q22: FALSE | R22: =IF(January!R22="","",January!R22)
A23: =IF(January!A23="","",January!A23) -> Gifts | F23: FALSE | G23: =IF(January!G23="","",January!G23) -> Rent | L23: =IF(January!L23="","",January!L23) -> Household | O23: =M23-N23 -> 0 | Q23: FALSE | R23: =IF(January!R23="","",January!R23)
A24: =IF(January!A24="","",January!A24) | F24: FALSE | G24: =IF(January!G24="","",January!G24) -> Mobile | L24: =IF(January!L24="","",January!L24) -> Education | O24: =M24-N24 -> 0 | Q24: FALSE | R24: =IF(January!R24="","",January!R24)
A25: =IF(January!A25="","",January!A25) | F25: FALSE | G25: =IF(January!G25="","",January!G25) -> Health Insurance | L25: =IF(January!L25="","",January!L25) -> Health | O25: =M25-N25 -> 0 | Q25: FALSE | R25: =IF(January!R25="","",January!R25)
A26: =IF(January!A26="","",January!A26) | F26: FALSE | G26: =IF(January!G26="","",January!G26) -> Gas | L26: =IF(January!L26="","",January!L26) -> Beauty | O26: =M26-N26 -> 0 | Q26: FALSE | R26: =IF(January!R26="","",January!R26)
A27: =IF(January!A27="","",January!A27) | F27: FALSE | G27: =IF(January!G27="","",January!G27) -> Spotify | L27: =IF(January!L27="","",January!L27) -> Gifts | O27: =M27-N27 -> 0 | Q27: FALSE | R27: =IF(January!R27="","",January!R27)
A28: =IF(January!A28="","",January!A28) | F28: FALSE | G28: =IF(January!G28="","",January!G28) -> Netflix | L28: =IF(January!L28="","",January!L28) -> Clothes | O28: =M28-N28 -> 0 | Q28: FALSE | R28: =IF(January!R28="","",January!R28)
A29: =IF(January!A29="","",January!A29) | F29: FALSE | G29: =IF(January!G29="","",January!G29) -> Disney Plus | L29: =IF(January!L29="","",January!L29) -> Entertainment | O29: =M29-N29 -> 0 | Q29: FALSE | R29: =IF(January!R29="","",January!R29)
A30: =IF(January!A30="","",January!A30) | F30: FALSE | G30: =IF(January!G30="","",January!G30) -> Maintenance | L30: =IF(January!L30="","",January!L30) -> Miscellaneous | O30: =M30-N30 -> 0 | Q30: FALSE | R30: =IF(January!R30="","",January!R30)
A31: =IF(January!A31="","",January!A31) | F31: FALSE | G31: =IF(January!G31="","",January!G31) -> Car | L31: =IF(January!L31="","",January!L31) | O31: =M31-N31 -> 0 | Q31: FALSE | R31: =IF(January!R31="","",January!R31)
A32: TOTAL | C32: =SUM(C20:C31) -> 0 | D32: =SUM(D20:D31) -> 0 | F32: FALSE | G32: =IF(January!G32="","",January!G32) | L32: =IF(January!L32="","",January!L32) | O32: =M32-N32 -> 0 | Q32: FALSE | R32: =IF(January!R32="","",January!R32)
F33: FALSE | G33: =IF(January!G33="","",January!G33) | L33: =IF(January!L33="","",January!L33) | O33: =M33-N33 -> 0 | Q33: FALSE | R33: =IF(January!R33="","",January!R33)
A34: SAVINGS | F34: FALSE | G34: =IF(January!G34="","",January!G34) | L34: =IF(January!L34="","",January!L34) | O34: =M34-N34 -> 0 | Q34: FALSE | R34: =IF(January!R34="","",January!R34)
A35: CATEGORIE | C35: BUDGET | D35: ACTUAL | F35: FALSE | G35: =IF(January!G35="","",January!G35) | L35: =IF(January!L35="","",January!L35) | O35: =M35-N35 -> 0 | Q35: FALSE | R35: =IF(January!R35="","",January!R35)
A36: FALSE | B36: =IF(January!B36="","",January!B36) -> Car | F36: FALSE | G36: =IF(January!G36="","",January!G36) | L36: =IF(January!L36="","",January!L36) | O36: =M36-N36 -> 0 | Q36: FALSE | R36: =IF(January!R36="","",January!R36)
A37: FALSE | B37: =IF(January!B37="","",January!B37) -> House | F37: FALSE | G37: =IF(January!G37="","",January!G37) | L37: =IF(January!L37="","",January!L37) | O37: =M37-N37 -> 0 | Q37: FALSE | R37: =IF(January!R37="","",January!R37)
A38: FALSE | B38: =IF(January!B38="","",January!B38) | F38: FALSE | G38: =IF(January!G38="","",January!G38) | L38: =IF(January!L38="","",January!L38) | O38: =M38-N38 -> 0 | Q38: FALSE | R38: =IF(January!R38="","",January!R38)
A39: FALSE | B39: =IF(January!B39="","",January!B39) | F39: FALSE | G39: =IF(January!G39="","",January!G39) | L39: =IF(January!L39="","",January!L39) | O39: =M39-N39 -> 0 | Q39: FALSE | R39: =IF(January!R39="","",January!R39)
A40: FALSE | B40: =IF(January!B40="","",January!B40) | F40: FALSE | G40: =IF(January!G40="","",January!G40) | L40: =IF(January!L40="","",January!L40) | O40: =M40-N40 -> 0 | Q40: FALSE | R40: =IF(January!R40="","",January!R40)
A41: FALSE | B41: =IF(January!B41="","",January!B41) | F41: FALSE | G41: =IF(January!G41="","",January!G41) | L41: =IF(January!L41="","",January!L41) | O41: =M41-N41 -> 0 | Q41: FALSE | R41: =IF(January!R41="","",January!R41)
A42: FALSE | B42: =IF(January!B42="","",January!B42) | F42: FALSE | G42: =IF(January!G42="","",January!G42) | L42: =IF(January!L42="","",January!L42) | O42: =M42-N42 -> 0 | Q42: FALSE | R42: =IF(January!R42="","",January!R42)
...

Sheet April
A1: April | F1: OVERVIEW | L1: LEFT TO SPEND | Q1: DAYS LEFT
F2: Start of Month | I2: 45748 | L2: =D16 -> 0 | Q2: =IF(TODAY()>DATE(YEAR(I2),MONTH(I2)+1,0),0,DATE(YEAR(I2),MONTH(I2)+1,0)-TODAY()+1) -> 0
F3: End of Month | I3: 45777
F4: Change Currency | I4: €
F5: Your Name
F6: Start Balance | I6: =March!D16 -> 0
A8: CASHFLOW
C9: BUDGET | D9: ACTUAL
A10: + Balance | C10: 0 | D10: 0
A11: + Income | C11: =C32 -> 0 | D11: =D32 -> 0
A12: - Bills | C12: =I48 -> 0 | D12: =J48 -> 0
A13: - Expenses | C13: =M48 -> 0 | D13: =N48 -> 0
A14: - Debt | C14: =T48 -> 0 | D14: =U48 -> 0
A15: - Savings | C15: =C48 -> 0 | D15: =D48 -> 0
A16: LEFT | C16: =C10+C11-C12-C13-C14-C15 -> 0 | D16: =D10+D11-D12-D13-D14-D15 -> 0
A18: INCOME | F18: BILLS | L18: EXPENSES | Q18: DEBT
A19: CATEGORY | C19: BUDGET | D19: ACTUAL | F19: CATEGORY | H19: DUE | I19: BUDGET | J19: ACTUAL | L19: CATEGORY | M19: BUDGET | N19: ACTUAL | O19: LEFT | Q19: CATEGORY | S19: DUE | T19: BUDGET | U19: ACTUAL
A20: =IF(January!A20="","",January!A20) -> Paycheck | F20: FALSE | G20: =IF(January!G20="","",January!G20) -> Internet | L20: =IF(January!L20="","",January!L20) -> Groceries | O20: =M20-N20 -> 0 | Q20: FALSE | R20: =IF(January!R20="","",January!R20)
A21: =IF(January!A21="","",January!A21) -> Business | F21: FALSE | G21: =IF(January!G21="","",January!G21) -> Water | L21: =IF(January!L21="","",January!L21) -> Dining out | O21: =M21-N21 -> 0 | Q21: FALSE | R21: =IF(January!R21="","",January!R21)
A22: =IF(January!A22="","",January!A22) -> Bonus | F22: FALSE | G22: =IF(January!G22="","",January!G22) -> Electricity | L22: =IF(January!L22="","",January!L22) -> Transport | O22: =M22-N22 -> 0 | Q22: FALSE | R22: =IF(January!R22="","",January!R22)
A23: =IF(January!A23="","",January!A23) -> Gifts | F23: FALSE | G23: =IF(January!G23="","",January!G23) -> Rent | L23: =IF(January!L23="","",January!L23) -> Household | O23: =M23-N23 -> 0 | Q23: FALSE | R23: =IF(January!R23="","",January!R23)
A24: =IF(January!A24="","",January!A24) | F24: FALSE | G24: =IF(January!G24="","",January!G24) -> Mobile | L24: =IF(January!L24="","",January!L24) -> Education | O24: =M24-N24 -> 0 | Q24: FALSE | R24: =IF(January!R24="","",January!R24)
A25: =IF(January!A25="","",January!A25) | F25: FALSE | G25: =IF(January!G25="","",January!G25) -> Health Insurance | L25: =IF(January!L25="","",January!L25) -> Health | O25: =M25-N25 -> 0 | Q25: FALSE | R25: =IF(January!R25="","",January!R25)
A26: =IF(January!A26="","",January!A26) | F26: FALSE | G26: =IF(January!G26="","",January!G26) -> Gas | L26: =IF(January!L26="","",January!L26) -> Beauty | O26: =M26-N26 -> 0 | Q26: FALSE | R26: =IF(January!R26="","",January!R26)
A27: =IF(January!A27="","",January!A27) | F27: FALSE | G27: =IF(January!G27="","",January!G27) -> Spotify | L27: =IF(January!L27="","",January!L27) -> Gifts | O27: =M27-N27 -> 0 | Q27: FALSE | R27: =IF(January!R27="","",January!R27)
A28: =IF(January!A28="","",January!A28) | F28: FALSE | G28: =IF(January!G28="","",January!G28) -> Netflix | L28: =IF(January!L28="","",January!L28) -> Clothes | O28: =M28-N28 -> 0 | Q28: FALSE | R28: =IF(January!R28="","",January!R28)
A29: =IF(January!A29="","",January!A29) | F29: FALSE | G29: =IF(January!G29="","",January!G29) -> Disney Plus | L29: =IF(January!L29="","",January!L29) -> Entertainment | O29: =M29-N29 -> 0 | Q29: FALSE | R29: =IF(January!R29="","",January!R29)
A30: =IF(January!A30="","",January!A30) | F30: FALSE | G30: =IF(January!G30="","",January!G30) -> Maintenance | L30: =IF(January!L30="","",January!L30) -> Miscellaneous | O30: =M30-N30 -> 0 | Q30: FALSE | R30: =IF(January!R30="","",January!R30)
A31: =IF(January!A31="","",January!A31) | F31: FALSE | G31: =IF(January!G31="","",January!G31) -> Car | L31: =IF(January!L31="","",January!L31) | O31: =M31-N31 -> 0 | Q31: FALSE | R31: =IF(January!R31="","",January!R31)
A32: TOTAL | C32: =SUM(C20:C31) -> 0 | D32: =SUM(D20:D31) -> 0 | F32: FALSE | G32: =IF(January!G32="","",January!G32) | L32: =IF(January!L32="","",January!L32) | O32: =M32-N32 -> 0 | Q32: FALSE | R32: =IF(January!R32="","",January!R32)
F33: FALSE | G33: =IF(January!G33="","",January!G33) | L33: =IF(January!L33="","",January!L33) | O33: =M33-N33 -> 0 | Q33: FALSE | R33: =IF(January!R33="","",January!R33)
A34: SAVINGS | F34: FALSE | G34: =IF(January!G34="","",January!G34) | L34: =IF(January!L34="","",January!L34) | O34: =M34-N34 -> 0 | Q34: FALSE | R34: =IF(January!R34="","",January!R34)
A35: CATEGORIE | C35: BUDGET | D35: ACTUAL | F35: FALSE | G35: =IF(January!G35="","",January!G35) | L35: =IF(January!L35="","",January!L35) | O35: =M35-N35 -> 0 | Q35: FALSE | R35: =IF(January!R35="","",January!R35)
A36: FALSE | B36: =IF(January!B36="","",January!B36) -> Car | F36: FALSE | G36: =IF(January!G36="","",January!G36) | L36: =IF(January!L36="","",January!L36) | O36: =M36-N36 -> 0 | Q36: FALSE | R36: =IF(January!R36="","",January!R36)
A37: FALSE | B37: =IF(January!B37="","",January!B37) -> House | F37: FALSE | G37: =IF(January!G37="","",January!G37) | L37: =IF(January!L37="","",January!L37) | O37: =M37-N37 -> 0 | Q37: FALSE | R37: =IF(January!R37="","",January!R37)
A38: FALSE | B38: =IF(January!B38="","",January!B38) | F38: FALSE | G38: =IF(January!G38="","",January!G38) | L38: =IF(January!L38="","",January!L38) | O38: =M38-N38 -> 0 | Q38: FALSE | R38: =IF(January!R38="","",January!R38)
A39: FALSE | B39: =IF(January!B39="","",January!B39) | F39: FALSE | G39: =IF(January!G39="","",January!G39) | L39: =IF(January!L39="","",January!L39) | O39: =M39-N39 -> 0 | Q39: FALSE | R39: =IF(January!R39="","",January!R39)
A40: FALSE | B40: =IF(January!B40="","",January!B40) | F40: FALSE | G40: =IF(January!G40="","",January!G40) | L40: =IF(January!L40="","",January!L40) | O40: =M40-N40 -> 0 | Q40: FALSE | R40: =IF(January!R40="","",January!R40)
A41: FALSE | B41: =IF(January!B41="","",January!B41) | F41: FALSE | G41: =IF(January!G41="","",January!G41) | L41: =IF(January!L41="","",January!L41) | O41: =M41-N41 -> 0 | Q41: FALSE | R41: =IF(January!R41="","",January!R41)
A42: FALSE | B42: =IF(January!B42="","",January!B42) | F42: FALSE | G42: =IF(January!G42="","",January!G42) | L42: =IF(January!L42="","",January!L42) | O42: =M42-N42 -> 0 | Q42: FALSE | R42: =IF(January!R42="","",January!R42)
...

Sheet May
A1: May | F1: OVERVIEW | L1: LEFT TO SPEND | Q1: DAYS LEFT
F2: Start of Month | I2: 45778 | L2: =D16 -> 0 | Q2: =IF(TODAY()>DATE(YEAR(I2),MONTH(I2)+1,0),0,DATE(YEAR(I2),MONTH(I2)+1,0)-TODAY()+1) -> 0
F3: End of Month | I3: 45808
F4: Change Currency | I4: €
F5: Your Name
F6: Start Balance | I6: =April!D16 -> 0
A8: CASHFLOW
C9: BUDGET | D9: ACTUAL
A10: + Balance | C10: 0 | D10: 0
A11: + Income | C11: =C32 -> 0 | D11: =D32 -> 0
A12: - Bills | C12: =I48 -> 0 | D12: =J48 -> 0
A13: - Expenses | C13: =M48 -> 0 | D13: =N48 -> 0
A14: - Debt | C14: =T48 -> 0 | D14: =U48 -> 0
A15: - Savings | C15: =C48 -> 0 | D15: =D48 -> 0
A16: LEFT | C16: =C10+C11-C12-C13-C14-C15 -> 0 | D16: =D10+D11-D12-D13-D14-D15 -> 0
A18: INCOME | F18: BILLS | L18: EXPENSES | Q18: DEBT
A19: CATEGORY | C19: BUDGET | D19: ACTUAL | F19: CATEGORY | H19: DUE | I19: BUDGET | J19: ACTUAL | L19: CATEGORY | M19: BUDGET | N19: ACTUAL | O19: LEFT | Q19: CATEGORY | S19: DUE | T19: BUDGET | U19: ACTUAL
A20: =IF(January!A20="","",January!A20) -> Paycheck | F20: FALSE | G20: =IF(January!G20="","",January!G20) -> Internet | L20: =IF(January!L20="","",January!L20) -> Groceries | O20: =M20-N20 -> 0 | Q20: FALSE | R20: =IF(January!R20="","",January!R20)
A21: =IF(January!A21="","",January!A21) -> Business | F21: FALSE | G21: =IF(January!G21="","",January!G21) -> Water | L21: =IF(January!L21="","",January!L21) -> Dining out | O21: =M21-N21 -> 0 | Q21: FALSE | R21: =IF(January!R21="","",January!R21)
A22: =IF(January!A22="","",January!A22) -> Bonus | F22: FALSE | G22: =IF(January!G22="","",January!G22) -> Electricity | L22: =IF(January!L22="","",January!L22) -> Transport | O22: =M22-N22 -> 0 | Q22: FALSE | R22: =IF(January!R22="","",January!R22)
A23: =IF(January!A23="","",January!A23) -> Gifts | F23: FALSE | G23: =IF(January!G23="","",January!G23) -> Rent | L23: =IF(January!L23="","",January!L23) -> Household | O23: =M23-N23 -> 0 | Q23: FALSE | R23: =IF(January!R23="","",January!R23)
A24: =IF(January!A24="","",January!A24) | F24: FALSE | G24: =IF(January!G24="","",January!G24) -> Mobile | L24: =IF(January!L24="","",January!L24) -> Education | O24: =M24-N24 -> 0 | Q24: FALSE | R24: =IF(January!R24="","",January!R24)
A25: =IF(January!A25="","",January!A25) | F25: FALSE | G25: =IF(January!G25="","",January!G25) -> Health Insurance | L25: =IF(January!L25="","",January!L25) -> Health | O25: =M25-N25 -> 0 | Q25: FALSE | R25: =IF(January!R25="","",January!R25)
A26: =IF(January!A26="","",January!A26) | F26: FALSE | G26: =IF(January!G26="","",January!G26) -> Gas | L26: =IF(January!L26="","",January!L26) -> Beauty | O26: =M26-N26 -> 0 | Q26: FALSE | R26: =IF(January!R26="","",January!R26)
A27: =IF(January!A27="","",January!A27) | F27: FALSE | G27: =IF(January!G27="","",January!G27) -> Spotify | L27: =IF(January!L27="","",January!L27) -> Gifts | O27: =M27-N27 -> 0 | Q27: FALSE | R27: =IF(January!R27="","",January!R27)
A28: =IF(January!A28="","",January!A28) | F28: FALSE | G28: =IF(January!G28="","",January!G28) -> Netflix | L28: =IF(January!L28="","",January!L28) -> Clothes | O28: =M28-N28 -> 0 | Q28: FALSE | R28: =IF(January!R28="","",January!R28)
A29: =IF(January!A29="","",January!A29) | F29: FALSE | G29: =IF(January!G29="","",January!G29) -> Disney Plus | L29: =IF(January!L29="","",January!L29) -> Entertainment | O29: =M29-N29 -> 0 | Q29: FALSE | R29: =IF(January!R29="","",January!R29)
A30: =IF(January!A30="","",January!A30) | F30: FALSE | G30: =IF(January!G30="","",January!G30) -> Maintenance | L30: =IF(January!L30="","",January!L30) -> Miscellaneous | O30: =M30-N30 -> 0 | Q30: FALSE | R30: =IF(January!R30="","",January!R30)
A31: =IF(January!A31="","",January!A31) | F31: FALSE | G31: =IF(January!G31="","",January!G31) -> Car | L31: =IF(January!L31="","",January!L31) | O31: =M31-N31 -> 0 | Q31: FALSE | R31: =IF(January!R31="","",January!R31)
A32: TOTAL | C32: =SUM(C20:C31) -> 0 | D32: =SUM(D20:D31) -> 0 | F32: FALSE | G32: =IF(January!G32="","",January!G32) | L32: =IF(January!L32="","",January!L32) | O32: =M32-N32 -> 0 | Q32: FALSE | R32: =IF(January!R32="","",January!R32)
F33: FALSE | G33: =IF(January!G33="","",January!G33) | L33: =IF(January!L33="","",January!L33) | O33: =M33-N33 -> 0 | Q33: FALSE | R33: =IF(January!R33="","",January!R33)
A34: SAVINGS | F34: FALSE | G34: =IF(January!G34="","",January!G34) | L34: =IF(January!L34="","",January!L34) | O34: =M34-N34 -> 0 | Q34: FALSE | R34: =IF(January!R34="","",January!R34)
A35: CATEGORIE | C35: BUDGET | D35: ACTUAL | F35: FALSE | G35: =IF(January!G35="","",January!G35) | L35: =IF(January!L35="","",January!L35) | O35: =M35-N35 -> 0 | Q35: FALSE | R35: =IF(January!R35="","",January!R35)
A36: FALSE | B36: =IF(January!B36="","",January!B36) -> Car | F36: FALSE | G36: =IF(January!G36="","",January!G36) | L36: =IF(January!L36="","",January!L36) | O36: =M36-N36 -> 0 | Q36: FALSE | R36: =IF(January!R36="","",January!R36)
A37: FALSE | B37: =IF(January!B37="","",January!B37) -> House | F37: FALSE | G37: =IF(January!G37="","",January!G37) | L37: =IF(January!L37="","",January!L37) | O37: =M37-N37 -> 0 | Q37: FALSE | R37: =IF(January!R37="","",January!R37)
A38: FALSE | B38: =IF(January!B38="","",January!B38) | F38: FALSE | G38: =IF(January!G38="","",January!G38) | L38: =IF(January!L38="","",January!L38) | O38: =M38-N38 -> 0 | Q38: FALSE | R38: =IF(January!R38="","",January!R38)
A39: FALSE | B39: =IF(January!B39="","",January!B39) | F39: FALSE | G39: =IF(January!G39="","",January!G39) | L39: =IF(January!L39="","",January!L39) | O39: =M39-N39 -> 0 | Q39: FALSE | R39: =IF(January!R39="","",January!R39)
A40: FALSE | B40: =IF(January!B40="","",January!B40) | F40: FALSE | G40: =IF(January!G40="","",January!G40) | L40: =IF(January!L40="","",January!L40) | O40: =M40-N40 -> 0 | Q40: FALSE | R40: =IF(January!R40="","",January!R40)
A41: FALSE | B41: =IF(January!B41="","",January!B41) | F41: FALSE | G41: =IF(January!G41="","",January!G41) | L41: =IF(January!L41="","",January!L41) | O41: =M41-N41 -> 0 | Q41: FALSE | R41: =IF(January!R41="","",January!R41)
A42: FALSE | B42: =IF(January!B42="","",January!B42) | F42: FALSE | G42: =IF(January!G42="","",January!G42) | L42: =IF(January!L42="","",January!L42) | O42: =M42-N42 -> 0 | Q42: FALSE | R42: =IF(January!R42="","",January!R42)
...

Sheet June
A1: June | F1: OVERVIEW | L1: LEFT TO SPEND | Q1: DAYS LEFT
F2: Start of Month | I2: 45809 | L2: =D16 -> 0 | Q2: =IF(TODAY()>DATE(YEAR(I2),MONTH(I2)+1,0),0,DATE(YEAR(I2),MONTH(I2)+1,0)-TODAY()+1) -> 0
F3: End of Month | I3: 45838
F4: Change Currency | I4: €
F5: Your Name
F6: Start Balance | I6: =May!D16 -> 0
A8: CASHFLOW
C9: BUDGET | D9: ACTUAL
A10: + Balance | C10: 0 | D10: 0
A11: + Income | C11: =C32 -> 0 | D11: =D32 -> 0
A12: - Bills | C12: =I48 -> 0 | D12: =J48 -> 0
A13: - Expenses | C13: =M48 -> 0 | D13: =N48 -> 0
A14: - Debt | C14: =T48 -> 0 | D14: =U48 -> 0
A15: - Savings | C15: =C48 -> 0 | D15: =D48 -> 0
A16: LEFT | C16: =C10+C11-C12-C13-C14-C15 -> 0 | D16: =D10+D11-D12-D13-D14-D15 -> 0
A18: INCOME | F18: BILLS | L18: EXPENSES | Q18: DEBT
A19: CATEGORY | C19: BUDGET | D19: ACTUAL | F19: CATEGORY | H19: DUE | I19: BUDGET | J19: ACTUAL | L19: CATEGORY | M19: BUDGET | N19: ACTUAL | O19: LEFT | Q19: CATEGORY | S19: DUE | T19: BUDGET | U19: ACTUAL
A20: =IF(January!A20="","",January!A20) -> Paycheck | F20: FALSE | G20: =IF(January!G20="","",January!G20) -> Internet | L20: =IF(January!L20="","",January!L20) -> Groceries | O20: =M20-N20 -> 0 | Q20: FALSE | R20: =IF(January!R20="","",January!R20)
A21: =IF(January!A21="","",January!A21) -> Business | F21: FALSE | G21: =IF(January!G21="","",January!G21) -> Water | L21: =IF(January!L21="","",January!L21) -> Dining out | O21: =M21-N21 -> 0 | Q21: FALSE | R21: =IF(January!R21="","",January!R21)
A22: =IF(January!A22="","",January!A22) -> Bonus | F22: FALSE | G22: =IF(January!G22="","",January!G22) -> Electricity | L22: =IF(January!L22="","",January!L22) -> Transport | O22: =M22-N22 -> 0 | Q22: FALSE | R22: =IF(January!R22="","",January!R22)
A23: =IF(January!A23="","",January!A23) -> Gifts | F23: FALSE | G23: =IF(January!G23="","",January!G23) -> Rent | L23: =IF(January!L23="","",January!L23) -> Household | O23: =M23-N23 -> 0 | Q23: FALSE | R23: =IF(January!R23="","",January!R23)
A24: =IF(January!A24="","",January!A24) | F24: FALSE | G24: =IF(January!G24="","",January!G24) -> Mobile | L24: =IF(January!L24="","",January!L24) -> Education | O24: =M24-N24 -> 0 | Q24: FALSE | R24: =IF(January!R24="","",January!R24)
A25: =IF(January!A25="","",January!A25) | F25: FALSE | G25: =IF(January!G25="","",January!G25) -> Health Insurance | L25: =IF(January!L25="","",January!L25) -> Health | O25: =M25-N25 -> 0 | Q25: FALSE | R25: =IF(January!R25="","",January!R25)
A26: =IF(January!A26="","",January!A26) | F26: FALSE | G26: =IF(January!G26="","",January!G26) -> Gas | L26: =IF(January!L26="","",January!L26) -> Beauty | O26: =M26-N26 -> 0 | Q26: FALSE | R26: =IF(January!R26="","",January!R26)
A27: =IF(January!A27="","",January!A27) | F27: FALSE | G27: =IF(January!G27="","",January!G27) -> Spotify | L27: =IF(January!L27="","",January!L27) -> Gifts | O27: =M27-N27 -> 0 | Q27: FALSE | R27: =IF(January!R27="","",January!R27)
A28: =IF(January!A28="","",January!A28) | F28: FALSE | G28: =IF(January!G28="","",January!G28) -> Netflix | L28: =IF(January!L28="","",January!L28) -> Clothes | O28: =M28-N28 -> 0 | Q28: FALSE | R28: =IF(January!R28="","",January!R28)
A29: =IF(January!A29="","",January!A29) | F29: FALSE | G29: =IF(January!G29="","",January!G29) -> Disney Plus | L29: =IF(January!L29="","",January!L29) -> Entertainment | O29: =M29-N29 -> 0 | Q29: FALSE | R29: =IF(January!R29="","",January!R29)
A30: =IF(January!A30="","",January!A30) | F30: FALSE | G30: =IF(January!G30="","",January!G30) -> Maintenance | L30: =IF(January!L30="","",January!L30) -> Miscellaneous | O30: =M30-N30 -> 0 | Q30: FALSE | R30: =IF(January!R30="","",January!R30)
A31: =IF(January!A31="","",January!A31) | F31: FALSE | G31: =IF(January!G31="","",January!G31) -> Car | L31: =IF(January!L31="","",January!L31) | O31: =M31-N31 -> 0 | Q31: FALSE | R31: =IF(January!R31="","",January!R31)
A32: TOTAL | C32: =SUM(C20:C31) -> 0 | D32: =SUM(D20:D31) -> 0 | F32: FALSE | G32: =IF(January!G32="","",January!G32) | L32: =IF(January!L32="","",January!L32) | O32: =M32-N32 -> 0 | Q32: FALSE | R32: =IF(January!R32="","",January!R32)
F33: FALSE | G33: =IF(January!G33="","",January!G33) | L33: =IF(January!L33="","",January!L33) | O33: =M33-N33 -> 0 | Q33: FALSE | R33: =IF(January!R33="","",January!R33)
A34: SAVINGS | F34: FALSE | G34: =IF(January!G34="","",January!G34) | L34: =IF(January!L34="","",January!L34) | O34: =M34-N34 -> 0 | Q34: FALSE | R34: =IF(January!R34="","",January!R34)
A35: CATEGORIE | C35: BUDGET | D35: ACTUAL | F35: FALSE | G35: =IF(January!G35="","",January!G35) | L35: =IF(January!L35="","",January!L35) | O35: =M35-N35 -> 0 | Q35: FALSE | R35: =IF(January!R35="","",January!R35)
A36: FALSE | B36: =IF(January!B36="","",January!B36) -> Car | F36: FALSE | G36: =IF(January!G36="","",January!G36) | L36: =IF(January!L36="","",January!L36) | O36: =M36-N36 -> 0 | Q36: FALSE | R36: =IF(January!R36="","",January!R36)
A37: FALSE | B37: =IF(January!B37="","",January!B37) -> House | F37: FALSE | G37: =IF(January!G37="","",January!G37) | L37: =IF(January!L37="","",January!L37) | O37: =M37-N37 -> 0 | Q37: FALSE | R37: =IF(January!R37="","",January!R37)
A38: FALSE | B38: =IF(January!B38="","",January!B38) | F38: FALSE | G38: =IF(January!G38="","",January!G38) | L38: =IF(January!L38="","",January!L38) | O38: =M38-N38 -> 0 | Q38: FALSE | R38: =IF(January!R38="","",January!R38)
A39: FALSE | B39: =IF(January!B39="","",January!B39) | F39: FALSE | G39: =IF(January!G39="","",January!G39) | L39: =IF(January!L39="","",January!L39) | O39: =M39-N39 -> 0 | Q39: FALSE | R39: =IF(January!R39="","",January!R39)
A40: FALSE | B40: =IF(January!B40="","",January!B40) | F40: FALSE | G40: =IF(January!G40="","",January!G40) | L40: =IF(January!L40="","",January!L40) | O40: =M40-N40 -> 0 | Q40: FALSE | R40: =IF(January!R40="","",January!R40)
A41: FALSE | B41: =IF(January!B41="","",January!B41) | F41: FALSE | G41: =IF(January!G41="","",January!G41) | L41: =IF(January!L41="","",January!L41) | O41: =M41-N41 -> 0 | Q41: FALSE | R41: =IF(January!R41="","",January!R41)
A42: FALSE | B42: =IF(January!B42="","",January!B42) | F42: FALSE | G42: =IF(January!G42="","",January!G42) | L42: =IF(January!L42="","",January!L42) | O42: =M42-N42 -> 0 | Q42: FALSE | R42: =IF(January!R42="","",January!R42)
...

Sheet July
A1: July | F1: OVERVIEW | L1: LEFT TO SPEND | Q1: DAYS LEFT
F2: Start of Month | I2: 45839 | L2: =D16 -> 0 | Q2: =IF(TODAY()>DATE(YEAR(I2),MONTH(I2)+1,0),0,DATE(YEAR(I2),MONTH(I2)+1,0)-TODAY()+1) -> 0
F3: End of Month | I3: 45869
F4: Change Currency | I4: €
F5: Your Name
F6: Start Balance | I6: =June!D16 -> 0
A8: CASHFLOW
C9: BUDGET | D9: ACTUAL
A10: + Balance | C10: 0 | D10: 0
A11: + Income | C11: =C32 -> 0 | D11: =D32 -> 0
A12: - Bills | C12: =I48 -> 0 | D12: =J48 -> 0
A13: - Expenses | C13: =M48 -> 0 | D13: =N48 -> 0
A14: - Debt | C14: =T48 -> 0 | D14: =U48 -> 0
A15: - Savings | C15: =C48 -> 0 | D15: =D48 -> 0
A16: LEFT | C16: =C10+C11-C12-C13-C14-C15 -> 0 | D16: =D10+D11-D12-D13-D14-D15 -> 0
A18: INCOME | F18: BILLS | L18: EXPENSES | Q18: DEBT
A19: CATEGORY | C19: BUDGET | D19: ACTUAL | F19: CATEGORY | H19: DUE | I19: BUDGET | J19: ACTUAL | L19: CATEGORY | M19: BUDGET | N19: ACTUAL | O19: LEFT | Q19: CATEGORY | S19: DUE | T19: BUDGET | U19: ACTUAL
A20: =IF(January!A20="","",January!A20) -> Paycheck | F20: FALSE | G20: =IF(January!G20="","",January!G20) -> Internet | L20: =IF(January!L20="","",January!L20) -> Groceries | O20: =M20-N20 -> 0 | Q20: FALSE | R20: =IF(January!R20="","",January!R20)
A21: =IF(January!A21="","",January!A21) -> Business | F21: FALSE | G21: =IF(January!G21="","",January!G21) -> Water | L21: =IF(January!L21="","",January!L21) -> Dining out | O21: =M21-N21 -> 0 | Q21: FALSE | R21: =IF(January!R21="","",January!R21)
A22: =IF(January!A22="","",January!A22) -> Bonus | F22: FALSE | G22: =IF(January!G22="","",January!G22) -> Electricity | L22: =IF(January!L22="","",January!L22) -> Transport | O22: =M22-N22 -> 0 | Q22: FALSE | R22: =IF(January!R22="","",January!R22)
A23: =IF(January!A23="","",January!A23) -> Gifts | F23: FALSE | G23: =IF(January!G23="","",January!G23) -> Rent | L23: =IF(January!L23="","",January!L23) -> Household | O23: =M23-N23 -> 0 | Q23: FALSE | R23: =IF(January!R23="","",January!R23)
A24: =IF(January!A24="","",January!A24) | F24: FALSE | G24: =IF(January!G24="","",January!G24) -> Mobile | L24: =IF(January!L24="","",January!L24) -> Education | O24: =M24-N24 -> 0 | Q24: FALSE | R24: =IF(January!R24="","",January!R24)
A25: =IF(January!A25="","",January!A25) | F25: FALSE | G25: =IF(January!G25="","",January!G25) -> Health Insurance | L25: =IF(January!L25="","",January!L25) -> Health | O25: =M25-N25 -> 0 | Q25: FALSE | R25: =IF(January!R25="","",January!R25)
A26: =IF(January!A26="","",January!A26) | F26: FALSE | G26: =IF(January!G26="","",January!G26) -> Gas | L26: =IF(January!L26="","",January!L26) -> Beauty | O26: =M26-N26 -> 0 | Q26: FALSE | R26: =IF(January!R26="","",January!R26)
A27: =IF(January!A27="","",January!A27) | F27: FALSE | G27: =IF(January!G27="","",January!G27) -> Spotify | L27: =IF(January!L27="","",January!L27) -> Gifts | O27: =M27-N27 -> 0 | Q27: FALSE | R27: =IF(January!R27="","",January!R27)
A28: =IF(January!A28="","",January!A28) | F28: FALSE | G28: =IF(January!G28="","",January!G28) -> Netflix | L28: =IF(January!L28="","",January!L28) -> Clothes | O28: =M28-N28 -> 0 | Q28: FALSE | R28: =IF(January!R28="","",January!R28)
A29: =IF(January!A29="","",January!A29) | F29: FALSE | G29: =IF(January!G29="","",January!G29) -> Disney Plus | L29: =IF(January!L29="","",January!L29) -> Entertainment | O29: =M29-N29 -> 0 | Q29: FALSE | R29: =IF(January!R29="","",January!R29)
A30: =IF(January!A30="","",January!A30) | F30: FALSE | G30: =IF(January!G30="","",January!G30) -> Maintenance | L30: =IF(January!L30="","",January!L30) -> Miscellaneous | O30: =M30-N30 -> 0 | Q30: FALSE | R30: =IF(January!R30="","",January!R30)
A31: =IF(January!A31="","",January!A31) | F31: FALSE | G31: =IF(January!G31="","",January!G31) -> Car | L31: =IF(January!L31="","",January!L31) | O31: =M31-N31 -> 0 | Q31: FALSE | R31: =IF(January!R31="","",January!R31)
A32: TOTAL | C32: =SUM(C20:C31) -> 0 | D32: =SUM(D20:D31) -> 0 | F32: FALSE | G32: =IF(January!G32="","",January!G32) | L32: =IF(January!L32="","",January!L32) | O32: =M32-N32 -> 0 | Q32: FALSE | R32: =IF(January!R32="","",January!R32)
F33: FALSE | G33: =IF(January!G33="","",January!G33) | L33: =IF(January!L33="","",January!L33) | O33: =M33-N33 -> 0 | Q33: FALSE | R33: =IF(January!R33="","",January!R33)
A34: SAVINGS | F34: FALSE | G34: =IF(January!G34="","",January!G34) | L34: =IF(January!L34="","",January!L34) | O34: =M34-N34 -> 0 | Q34: FALSE | R34: =IF(January!R34="","",January!R34)
A35: CATEGORIE | C35: BUDGET | D35: ACTUAL | F35: FALSE | G35: =IF(January!G35="","",January!G35) | L35: =IF(January!L35="","",January!L35) | O35: =M35-N35 -> 0 | Q35: FALSE | R35: =IF(January!R35="","",January!R35)
A36: FALSE | B36: =IF(January!B36="","",January!B36) -> Car | F36: FALSE | G36: =IF(January!G36="","",January!G36) | L36: =IF(January!L36="","",January!L36) | O36: =M36-N36 -> 0 | Q36: FALSE | R36: =IF(January!R36="","",January!R36)
A37: FALSE | B37: =IF(January!B37="","",January!B37) -> House | F37: FALSE | G37: =IF(January!G37="","",January!G37) | L37: =IF(January!L37="","",January!L37) | O37: =M37-N37 -> 0 | Q37: FALSE | R37: =IF(January!R37="","",January!R37)
A38: FALSE | B38: =IF(January!B38="","",January!B38) | F38: FALSE | G38: =IF(January!G38="","",January!G38) | L38: =IF(January!L38="","",January!L38) | O38: =M38-N38 -> 0 | Q38: FALSE | R38: =IF(January!R38="","",January!R38)
A39: FALSE | B39: =IF(January!B39="","",January!B39) | F39: FALSE | G39: =IF(January!G39="","",January!G39) | L39: =IF(January!L39="","",January!L39) | O39: =M39-N39 -> 0 | Q39: FALSE | R39: =IF(January!R39="","",January!R39)
A40: FALSE | B40: =IF(January!B40="","",January!B40) | F40: FALSE | G40: =IF(January!G40="","",January!G40) | L40: =IF(January!L40="","",January!L40) | O40: =M40-N40 -> 0 | Q40: FALSE | R40: =IF(January!R40="","",January!R40)
A41: FALSE | B41: =IF(January!B41="","",January!B41) | F41: FALSE | G41: =IF(January!G41="","",January!G41) | L41: =IF(January!L41="","",January!L41) | O41: =M41-N41 -> 0 | Q41: FALSE | R41: =IF(January!R41="","",January!R41)
A42: FALSE | B42: =IF(January!B42="","",January!B42) | F42: FALSE | G42: =IF(January!G42="","",January!G42) | L42: =IF(January!L42="","",January!L42) | O42: =M42-N42 -> 0 | Q42: FALSE | R42: =IF(January!R42="","",January!R42)
...

Sheet August
A1: August | F1: OVERVIEW | L1: LEFT TO SPEND | Q1: DAYS LEFT
F2: Start of Month | I2: 45870 | L2: =D16 -> 0 | Q2: =IF(TODAY()>DATE(YEAR(I2),MONTH(I2)+1,0),0,DATE(YEAR(I2),MONTH(I2)+1,0)-TODAY()+1) -> 29
F3: End of Month | I3: 45900
F4: Change Currency | I4: €
F5: Your Name
F6: Start Balance | I6: =July!D16 -> 0
A8: CASHFLOW
C9: BUDGET | D9: ACTUAL
A10: + Balance | C10: 0 | D10: 0
A11: + Income | C11: =C32 -> 0 | D11: =D32 -> 0
A12: - Bills | C12: =I48 -> 0 | D12: =J48 -> 0
A13: - Expenses | C13: =M48 -> 0 | D13: =N48 -> 0
A14: - Debt | C14: =T48 -> 0 | D14: =U48 -> 0
A15: - Savings | C15: =C48 -> 0 | D15: =D48 -> 0
A16: LEFT | C16: =C10+C11-C12-C13-C14-C15 -> 0 | D16: =D10+D11-D12-D13-D14-D15 -> 0
A18: INCOME | F18: BILLS | L18: EXPENSES | Q18: DEBT
A19: CATEGORY | C19: BUDGET | D19: ACTUAL | F19: CATEGORY | H19: DUE | I19: BUDGET | J19: ACTUAL | L19: CATEGORY | M19: BUDGET | N19: ACTUAL | O19: LEFT | Q19: CATEGORY | S19: DUE | T19: BUDGET | U19: ACTUAL
A20: =IF(January!A20="","",January!A20) -> Paycheck | F20: FALSE | G20: =IF(January!G20="","",January!G20) -> Internet | L20: =IF(January!L20="","",January!L20) -> Groceries | O20: =M20-N20 -> 0 | Q20: FALSE | R20: =IF(January!R20="","",January!R20)
A21: =IF(January!A21="","",January!A21) -> Business | F21: FALSE | G21: =IF(January!G21="","",January!G21) -> Water | L21: =IF(January!L21="","",January!L21) -> Dining out | O21: =M21-N21 -> 0 | Q21: FALSE | R21: =IF(January!R21="","",January!R21)
A22: =IF(January!A22="","",January!A22) -> Bonus | F22: FALSE | G22: =IF(January!G22="","",January!G22) -> Electricity | L22: =IF(January!L22="","",January!L22) -> Transport | O22: =M22-N22 -> 0 | Q22: FALSE | R22: =IF(January!R22="","",January!R22)
A23: =IF(January!A23="","",January!A23) -> Gifts | F23: FALSE | G23: =IF(January!G23="","",January!G23) -> Rent | L23: =IF(January!L23="","",January!L23) -> Household | O23: =M23-N23 -> 0 | Q23: FALSE | R23: =IF(January!R23="","",January!R23)
A24: =IF(January!A24="","",January!A24) | F24: FALSE | G24: =IF(January!G24="","",January!G24) -> Mobile | L24: =IF(January!L24="","",January!L24) -> Education | O24: =M24-N24 -> 0 | Q24: FALSE | R24: =IF(January!R24="","",January!R24)
A25: =IF(January!A25="","",January!A25) | F25: FALSE | G25: =IF(January!G25="","",January!G25) -> Health Insurance | L25: =IF(January!L25="","",January!L25) -> Health | O25: =M25-N25 -> 0 | Q25: FALSE | R25: =IF(January!R25="","",January!R25)
A26: =IF(January!A26="","",January!A26) | F26: FALSE | G26: =IF(January!G26="","",January!G26) -> Gas | L26: =IF(January!L26="","",January!L26) -> Beauty | O26: =M26-N26 -> 0 | Q26: FALSE | R26: =IF(January!R26="","",January!R26)
A27: =IF(January!A27="","",January!A27) | F27: FALSE | G27: =IF(January!G27="","",January!G27) -> Spotify | L27: =IF(January!L27="","",January!L27) -> Gifts | O27: =M27-N27 -> 0 | Q27: FALSE | R27: =IF(January!R27="","",January!R27)
A28: =IF(January!A28="","",January!A28) | F28: FALSE | G28: =IF(January!G28="","",January!G28) -> Netflix | L28: =IF(January!L28="","",January!L28) -> Clothes | O28: =M28-N28 -> 0 | Q28: FALSE | R28: =IF(January!R28="","",January!R28)
A29: =IF(January!A29="","",January!A29) | F29: FALSE | G29: =IF(January!G29="","",January!G29) -> Disney Plus | L29: =IF(January!L29="","",January!L29) -> Entertainment | O29: =M29-N29 -> 0 | Q29: FALSE | R29: =IF(January!R29="","",January!R29)
A30: =IF(January!A30="","",January!A30) | F30: FALSE | G30: =IF(January!G30="","",January!G30) -> Maintenance | L30: =IF(January!L30="","",January!L30) -> Miscellaneous | O30: =M30-N30 -> 0 | Q30: FALSE | R30: =IF(January!R30="","",January!R30)
A31: =IF(January!A31="","",January!A31) | F31: FALSE | G31: =IF(January!G31="","",January!G31) -> Car | L31: =IF(January!L31="","",January!L31) | O31: =M31-N31 -> 0 | Q31: FALSE | R31: =IF(January!R31="","",January!R31)
A32: TOTAL | C32: =SUM(C20:C31) -> 0 | D32: =SUM(D20:D31) -> 0 | F32: FALSE | G32: =IF(January!G32="","",January!G32) | L32: =IF(January!L32="","",January!L32) | O32: =M32-N32 -> 0 | Q32: FALSE | R32: =IF(January!R32="","",January!R32)
F33: FALSE | G33: =IF(January!G33="","",January!G33) | L33: =IF(January!L33="","",January!L33) | O33: =M33-N33 -> 0 | Q33: FALSE | R33: =IF(January!R33="","",January!R33)
A34: SAVINGS | F34: FALSE | G34: =IF(January!G34="","",January!G34) | L34: =IF(January!L34="","",January!L34) | O34: =M34-N34 -> 0 | Q34: FALSE | R34: =IF(January!R34="","",January!R34)
A35: CATEGORIE | C35: BUDGET | D35: ACTUAL | F35: FALSE | G35: =IF(January!G35="","",January!G35) | L35: =IF(January!L35="","",January!L35) | O35: =M35-N35 -> 0 | Q35: FALSE | R35: =IF(January!R35="","",January!R35)
A36: FALSE | B36: =IF(January!B36="","",January!B36) -> Car | F36: FALSE | G36: =IF(January!G36="","",January!G36) | L36: =IF(January!L36="","",January!L36) | O36: =M36-N36 -> 0 | Q36: FALSE | R36: =IF(January!R36="","",January!R36)
A37: FALSE | B37: =IF(January!B37="","",January!B37) -> House | F37: FALSE | G37: =IF(January!G37="","",January!G37) | L37: =IF(January!L37="","",January!L37) | O37: =M37-N37 -> 0 | Q37: FALSE | R37: =IF(January!R37="","",January!R37)
A38: FALSE | B38: =IF(January!B38="","",January!B38) | F38: FALSE | G38: =IF(January!G38="","",January!G38) | L38: =IF(January!L38="","",January!L38) | O38: =M38-N38 -> 0 | Q38: FALSE | R38: =IF(January!R38="","",January!R38)
A39: FALSE | B39: =IF(January!B39="","",January!B39) | F39: FALSE | G39: =IF(January!G39="","",January!G39) | L39: =IF(January!L39="","",January!L39) | O39: =M39-N39 -> 0 | Q39: FALSE | R39: =IF(January!R39="","",January!R39)
A40: FALSE | B40: =IF(January!B40="","",January!B40) | F40: FALSE | G40: =IF(January!G40="","",January!G40) | L40: =IF(January!L40="","",January!L40) | O40: =M40-N40 -> 0 | Q40: FALSE | R40: =IF(January!R40="","",January!R40)
A41: FALSE | B41: =IF(January!B41="","",January!B41) | F41: FALSE | G41: =IF(January!G41="","",January!G41) | L41: =IF(January!L41="","",January!L41) | O41: =M41-N41 -> 0 | Q41: FALSE | R41: =IF(January!R41="","",January!R41)
A42: FALSE | B42: =IF(January!B42="","",January!B42) | F42: FALSE | G42: =IF(January!G42="","",January!G42) | L42: =IF(January!L42="","",January!L42) | O42: =M42-N42 -> 0 | Q42: FALSE | R42: =IF(January!R42="","",January!R42)
...

Sheet September
A1: September | F1: OVERVIEW | L1: LEFT TO SPEND | Q1: DAYS LEFT
F2: Start of Month | I2: 45901 | L2: =D16 -> 0 | Q2: =IF(TODAY()>DATE(YEAR(I2),MONTH(I2)+1,0),0,DATE(YEAR(I2),MONTH(I2)+1,0)-TODAY()+1) -> 59
F3: End of Month | I3: 45930
F4: Change Currency | I4: €
F5: Your Name
F6: Start Balance | I6: =August!D16 -> 0
A8: CASHFLOW
C9: BUDGET | D9: ACTUAL
A10: + Balance | C10: 0 | D10: 0
A11: + Income | C11: =C32 -> 0 | D11: =D32 -> 0
A12: - Bills | C12: =I48 -> 0 | D12: =J48 -> 0
A13: - Expenses | C13: =M48 -> 0 | D13: =N48 -> 0
A14: - Debt | C14: =T48 -> 0 | D14: =U48 -> 0
A15: - Savings | C15: =C48 -> 0 | D15: =D48 -> 0
A16: LEFT | C16: =C10+C11-C12-C13-C14-C15 -> 0 | D16: =D10+D11-D12-D13-D14-D15 -> 0
A18: INCOME | F18: BILLS | L18: EXPENSES | Q18: DEBT
A19: CATEGORY | C19: BUDGET | D19: ACTUAL | F19: CATEGORY | H19: DUE | I19: BUDGET | J19: ACTUAL | L19: CATEGORY | M19: BUDGET | N19: ACTUAL | O19: LEFT | Q19: CATEGORY | S19: DUE | T19: BUDGET | U19: ACTUAL
A20: =IF(January!A20="","",January!A20) -> Paycheck | F20: FALSE | G20: =IF(January!G20="","",January!G20) -> Internet | L20: =IF(January!L20="","",January!L20) -> Groceries | O20: =M20-N20 -> 0 | Q20: FALSE | R20: =IF(January!R20="","",January!R20)
A21: =IF(January!A21="","",January!A21) -> Business | F21: FALSE | G21: =IF(January!G21="","",January!G21) -> Water | L21: =IF(January!L21="","",January!L21) -> Dining out | O21: =M21-N21 -> 0 | Q21: FALSE | R21: =IF(January!R21="","",January!R21)
A22: =IF(January!A22="","",January!A22) -> Bonus | F22: FALSE | G22: =IF(January!G22="","",January!G22) -> Electricity | L22: =IF(January!L22="","",January!L22) -> Transport | O22: =M22-N22 -> 0 | Q22: FALSE | R22: =IF(January!R22="","",January!R22)
A23: =IF(January!A23="","",January!A23) -> Gifts | F23: FALSE | G23: =IF(January!G23="","",January!G23) -> Rent | L23: =IF(January!L23="","",January!L23) -> Household | O23: =M23-N23 -> 0 | Q23: FALSE | R23: =IF(January!R23="","",January!R23)
A24: =IF(January!A24="","",January!A24) | F24: FALSE | G24: =IF(January!G24="","",January!G24) -> Mobile | L24: =IF(January!L24="","",January!L24) -> Education | O24: =M24-N24 -> 0 | Q24: FALSE | R24: =IF(January!R24="","",January!R24)
A25: =IF(January!A25="","",January!A25) | F25: FALSE | G25: =IF(January!G25="","",January!G25) -> Health Insurance | L25: =IF(January!L25="","",January!L25) -> Health | O25: =M25-N25 -> 0 | Q25: FALSE | R25: =IF(January!R25="","",January!R25)
A26: =IF(January!A26="","",January!A26) | F26: FALSE | G26: =IF(January!G26="","",January!G26) -> Gas | L26: =IF(January!L26="","",January!L26) -> Beauty | O26: =M26-N26 -> 0 | Q26: FALSE | R26: =IF(January!R26="","",January!R26)
A27: =IF(January!A27="","",January!A27) | F27: FALSE | G27: =IF(January!G27="","",January!G27) -> Spotify | L27: =IF(January!L27="","",January!L27) -> Gifts | O27: =M27-N27 -> 0 | Q27: FALSE | R27: =IF(January!R27="","",January!R27)
A28: =IF(January!A28="","",January!A28) | F28: FALSE | G28: =IF(January!G28="","",January!G28) -> Netflix | L28: =IF(January!L28="","",January!L28) -> Clothes | O28: =M28-N28 -> 0 | Q28: FALSE | R28: =IF(January!R28="","",January!R28)
A29: =IF(January!A29="","",January!A29) | F29: FALSE | G29: =IF(January!G29="","",January!G29) -> Disney Plus | L29: =IF(January!L29="","",January!L29) -> Entertainment | O29: =M29-N29 -> 0 | Q29: FALSE | R29: =IF(January!R29="","",January!R29)
A30: =IF(January!A30="","",January!A30) | F30: FALSE | G30: =IF(January!G30="","",January!G30) -> Maintenance | L30: =IF(January!L30="","",January!L30) -> Miscellaneous | O30: =M30-N30 -> 0 | Q30: FALSE | R30: =IF(January!R30="","",January!R30)
A31: =IF(January!A31="","",January!A31) | F31: FALSE | G31: =IF(January!G31="","",January!G31) -> Car | L31: =IF(January!L31="","",January!L31) | O31: =M31-N31 -> 0 | Q31: FALSE | R31: =IF(January!R31="","",January!R31)
A32: TOTAL | C32: =SUM(C20:C31) -> 0 | D32: =SUM(D20:D31) -> 0 | F32: FALSE | G32: =IF(January!G32="","",January!G32) | L32: =IF(January!L32="","",January!L32) | O32: =M32-N32 -> 0 | Q32: FALSE | R32: =IF(January!R32="","",January!R32)
F33: FALSE | G33: =IF(January!G33="","",January!G33) | L33: =IF(January!L33="","",January!L33) | O33: =M33-N33 -> 0 | Q33: FALSE | R33: =IF(January!R33="","",January!R33)
A34: SAVINGS | F34: FALSE | G34: =IF(January!G34="","",January!G34) | L34: =IF(January!L34="","",January!L34) | O34: =M34-N34 -> 0 | Q34: FALSE | R34: =IF(January!R34="","",January!R34)
A35: CATEGORIE | C35: BUDGET | D35: ACTUAL | F35: FALSE | G35: =IF(January!G35="","",January!G35) | L35: =IF(January!L35="","",January!L35) | O35: =M35-N35 -> 0 | Q35: FALSE | R35: =IF(January!R35="","",January!R35)
A36: FALSE | B36: =IF(January!B36="","",January!B36) -> Car | F36: FALSE | G36: =IF(January!G36="","",January!G36) | L36: =IF(January!L36="","",January!L36) | O36: =M36-N36 -> 0 | Q36: FALSE | R36: =IF(January!R36="","",January!R36)
A37: FALSE | B37: =IF(January!B37="","",January!B37) -> House | F37: FALSE | G37: =IF(January!G37="","",January!G37) | L37: =IF(January!L37="","",January!L37) | O37: =M37-N37 -> 0 | Q37: FALSE | R37: =IF(January!R37="","",January!R37)
A38: FALSE | B38: =IF(January!B38="","",January!B38) | F38: FALSE | G38: =IF(January!G38="","",January!G38) | L38: =IF(January!L38="","",January!L38) | O38: =M38-N38 -> 0 | Q38: FALSE | R38: =IF(January!R38="","",January!R38)
A39: FALSE | B39: =IF(January!B39="","",January!B39) | F39: FALSE | G39: =IF(January!G39="","",January!G39) | L39: =IF(January!L39="","",January!L39) | O39: =M39-N39 -> 0 | Q39: FALSE | R39: =IF(January!R39="","",January!R39)
A40: FALSE | B40: =IF(January!B40="","",January!B40) | F40: FALSE | G40: =IF(January!G40="","",January!G40) | L40: =IF(January!L40="","",January!L40) | O40: =M40-N40 -> 0 | Q40: FALSE | R40: =IF(January!R40="","",January!R40)
A41: FALSE | B41: =IF(January!B41="","",January!B41) | F41: FALSE | G41: =IF(January!G41="","",January!G41) | L41: =IF(January!L41="","",January!L41) | O41: =M41-N41 -> 0 | Q41: FALSE | R41: =IF(January!R41="","",January!R41)
A42: FALSE | B42: =IF(January!B42="","",January!B42) | F42: FALSE | G42: =IF(January!G42="","",January!G42) | L42: =IF(January!L42="","",January!L42) | O42: =M42-N42 -> 0 | Q42: FALSE | R42: =IF(January!R42="","",January!R42)
...

Sheet October
A1: October | F1: OVERVIEW | L1: LEFT TO SPEND | Q1: DAYS LEFT
F2: Start of Month | I2: 45931 | L2: =D16 -> 0 | Q2: =IF(TODAY()>DATE(YEAR(I2),MONTH(I2)+1,0),0,DATE(YEAR(I2),MONTH(I2)+1,0)-TODAY()+1) -> 90
F3: End of Month | I3: 45961
F4: Change Currency | I4: €
F5: Your Name
F6: Start Balance | I6: =September!D16 -> 0
A8: CASHFLOW
C9: BUDGET | D9: ACTUAL
A10: + Balance | C10: 0 | D10: 0
A11: + Income | C11: =C32 -> 0 | D11: =D32 -> 0
A12: - Bills | C12: =I48 -> 0 | D12: =J48 -> 0
A13: - Expenses | C13: =M48 -> 0 | D13: =N48 -> 0
A14: - Debt | C14: =T48 -> 0 | D14: =U48 -> 0
A15: - Savings | C15: =C48 -> 0 | D15: =D48 -> 0
A16: LEFT | C16: =C10+C11-C12-C13-C14-C15 -> 0 | D16: =D10+D11-D12-D13-D14-D15 -> 0
A18: INCOME | F18: BILLS | L18: EXPENSES | Q18: DEBT
A19: CATEGORY | C19: BUDGET | D19: ACTUAL | F19: CATEGORY | H19: DUE | I19: BUDGET | J19: ACTUAL | L19: CATEGORY | M19: BUDGET | N19: ACTUAL | O19: LEFT | Q19: CATEGORY | S19: DUE | T19: BUDGET | U19: ACTUAL
A20: =IF(January!A20="","",January!A20) -> Paycheck | F20: FALSE | G20: =IF(January!G20="","",January!G20) -> Internet | L20: =IF(January!L20="","",January!L20) -> Groceries | O20: =M20-N20 -> 0 | Q20: FALSE | R20: =IF(January!R20="","",January!R20)
A21: =IF(January!A21="","",January!A21) -> Business | F21: FALSE | G21: =IF(January!G21="","",January!G21) -> Water | L21: =IF(January!L21="","",January!L21) -> Dining out | O21: =M21-N21 -> 0 | Q21: FALSE | R21: =IF(January!R21="","",January!R21)
A22: =IF(January!A22="","",January!A22) -> Bonus | F22: FALSE | G22: =IF(January!G22="","",January!G22) -> Electricity | L22: =IF(January!L22="","",January!L22) -> Transport | O22: =M22-N22 -> 0 | Q22: FALSE | R22: =IF(January!R22="","",January!R22)
A23: =IF(January!A23="","",January!A23) -> Gifts | F23: FALSE | G23: =IF(January!G23="","",January!G23) -> Rent | L23: =IF(January!L23="","",January!L23) -> Household | O23: =M23-N23 -> 0 | Q23: FALSE | R23: =IF(January!R23="","",January!R23)
A24: =IF(January!A24="","",January!A24) | F24: FALSE | G24: =IF(January!G24="","",January!G24) -> Mobile | L24: =IF(January!L24="","",January!L24) -> Education | O24: =M24-N24 -> 0 | Q24: FALSE | R24: =IF(January!R24="","",January!R24)
A25: =IF(January!A25="","",January!A25) | F25: FALSE | G25: =IF(January!G25="","",January!G25) -> Health Insurance | L25: =IF(January!L25="","",January!L25) -> Health | O25: =M25-N25 -> 0 | Q25: FALSE | R25: =IF(January!R25="","",January!R25)
A26: =IF(January!A26="","",January!A26) | F26: FALSE | G26: =IF(January!G26="","",January!G26) -> Gas | L26: =IF(January!L26="","",January!L26) -> Beauty | O26: =M26-N26 -> 0 | Q26: FALSE | R26: =IF(January!R26="","",January!R26)
A27: =IF(January!A27="","",January!A27) | F27: FALSE | G27: =IF(January!G27="","",January!G27) -> Spotify | L27: =IF(January!L27="","",January!L27) -> Gifts | O27: =M27-N27 -> 0 | Q27: FALSE | R27: =IF(January!R27="","",January!R27)
A28: =IF(January!A28="","",January!A28) | F28: FALSE | G28: =IF(January!G28="","",January!G28) -> Netflix | L28: =IF(January!L28="","",January!L28) -> Clothes | O28: =M28-N28 -> 0 | Q28: FALSE | R28: =IF(January!R28="","",January!R28)
A29: =IF(January!A29="","",January!A29) | F29: FALSE | G29: =IF(January!G29="","",January!G29) -> Disney Plus | L29: =IF(January!L29="","",January!L29) -> Entertainment | O29: =M29-N29 -> 0 | Q29: FALSE | R29: =IF(January!R29="","",January!R29)
A30: =IF(January!A30="","",January!A30) | F30: FALSE | G30: =IF(January!G30="","",January!G30) -> Maintenance | L30: =IF(January!L30="","",January!L30) -> Miscellaneous | O30: =M30-N30 -> 0 | Q30: FALSE | R30: =IF(January!R30="","",January!R30)
A31: =IF(January!A31="","",January!A31) | F31: FALSE | G31: =IF(January!G31="","",January!G31) -> Car | L31: =IF(January!L31="","",January!L31) | O31: =M31-N31 -> 0 | Q31: FALSE | R31: =IF(January!R31="","",January!R31)
A32: TOTAL | C32: =SUM(C20:C31) -> 0 | D32: =SUM(D20:D31) -> 0 | F32: FALSE | G32: =IF(January!G32="","",January!G32) | L32: =IF(January!L32="","",January!L32) | O32: =M32-N32 -> 0 | Q32: FALSE | R32: =IF(January!R32="","",January!R32)
F33: FALSE | G33: =IF(January!G33="","",January!G33) | L33: =IF(January!L33="","",January!L33) | O33: =M33-N33 -> 0 | Q33: FALSE | R33: =IF(January!R33="","",January!R33)
A34: SAVINGS | F34: FALSE | G34: =IF(January!G34="","",January!G34) | L34: =IF(January!L34="","",January!L34) | O34: =M34-N34 -> 0 | Q34: FALSE | R34: =IF(January!R34="","",January!R34)
A35: CATEGORIE | C35: BUDGET | D35: ACTUAL | F35: FALSE | G35: =IF(January!G35="","",January!G35) | L35: =IF(January!L35="","",January!L35) | O35: =M35-N35 -> 0 | Q35: FALSE | R35: =IF(January!R35="","",January!R35)
A36: FALSE | B36: =IF(January!B36="","",January!B36) -> Car | F36: FALSE | G36: =IF(January!G36="","",January!G36) | L36: =IF(January!L36="","",January!L36) | O36: =M36-N36 -> 0 | Q36: FALSE | R36: =IF(January!R36="","",January!R36)
A37: FALSE | B37: =IF(January!B37="","",January!B37) -> House | F37: FALSE | G37: =IF(January!G37="","",January!G37) | L37: =IF(January!L37="","",January!L37) | O37: =M37-N37 -> 0 | Q37: FALSE | R37: =IF(January!R37="","",January!R37)
A38: FALSE | B38: =IF(January!B38="","",January!B38) | F38: FALSE | G38: =IF(January!G38="","",January!G38) | L38: =IF(January!L38="","",January!L38) | O38: =M38-N38 -> 0 | Q38: FALSE | R38: =IF(January!R38="","",January!R38)
A39: FALSE | B39: =IF(January!B39="","",January!B39) | F39: FALSE | G39: =IF(January!G39="","",January!G39) | L39: =IF(January!L39="","",January!L39) | O39: =M39-N39 -> 0 | Q39: FALSE | R39: =IF(January!R39="","",January!R39)
A40: FALSE | B40: =IF(January!B40="","",January!B40) | F40: FALSE | G40: =IF(January!G40="","",January!G40) | L40: =IF(January!L40="","",January!L40) | O40: =M40-N40 -> 0 | Q40: FALSE | R40: =IF(January!R40="","",January!R40)
A41: FALSE | B41: =IF(January!B41="","",January!B41) | F41: FALSE | G41: =IF(January!G41="","",January!G41) | L41: =IF(January!L41="","",January!L41) | O41: =M41-N41 -> 0 | Q41: FALSE | R41: =IF(January!R41="","",January!R41)
A42: FALSE | B42: =IF(January!B42="","",January!B42) | F42: FALSE | G42: =IF(January!G42="","",January!G42) | L42: =IF(January!L42="","",January!L42) | O42: =M42-N42 -> 0 | Q42: FALSE | R42: =IF(January!R42="","",January!R42)
...

Sheet November
A1: November | F1: OVERVIEW | L1: LEFT TO SPEND | Q1: DAYS LEFT
F2: Start of Month | I2: 45962 | L2: =D16 -> 0 | Q2: =IF(TODAY()>DATE(YEAR(I2),MONTH(I2)+1,0),0,DATE(YEAR(I2),MONTH(I2)+1,0)-TODAY()+1) -> 120
F3: End of Month | I3: 45991
F4: Change Currency | I4: €
F5: Your Name
F6: Start Balance | I6: =October!D16 -> 0
A8: CASHFLOW
C9: BUDGET | D9: ACTUAL
A10: + Balance | C10: 0 | D10: 0
A11: + Income | C11: =C32 -> 0 | D11: =D32 -> 0
A12: - Bills | C12: =I48 -> 0 | D12: =J48 -> 0
A13: - Expenses | C13: =M48 -> 0 | D13: =N48 -> 0
A14: - Debt | C14: =T48 -> 0 | D14: =U48 -> 0
A15: - Savings | C15: =C48 -> 0 | D15: =D48 -> 0
A16: LEFT | C16: =C10+C11-C12-C13-C14-C15 -> 0 | D16: =D10+D11-D12-D13-D14-D15 -> 0
A18: INCOME | F18: BILLS | L18: EXPENSES | Q18: DEBT
