Workbook

Sheet Intro
A1: Budgetplan
A3: GOAL | F3: Overview | L3: ACHIEVEMENTS | Q3: BALANCE | U3: TOTAL GROCERIES
A4: Spending | B4: 0.8 | C4: Saving | D4: 0.2 | F4: Month | G4: Saved | H4: Invested | I4: Spend | L4: Month | M4: Achieved | O4: Succesful? | Q4: Month | R4: Balance | U4: {=SUM(IF(January!B5:B105="Groceries",January!D5:D105,0))+SUM(IF(February!B5:B105="Groceries",February!D5:D105,0))+SUM(IF(March!B5:B105="Groceries",March!D5:D105,0))+SUM(IF(April!B5:B105="Groceries",April!D5:D105,0))+SUM(IF(May!B5:B105="Groceries",May!D5:D105,0))+SUM(IF(June!B5:B105="Groceries",June!D5:D105,0))+SUM(IF(July!B5:B105="Groceries",July!D5:D105,0))+SUM(IF(August!B5:B105="Groceries",August!D5:D105,0))+SUM(IF(September!B5:B105="Groceries",September!D5:D105,0))+SUM(IF(October!B5:B105="Groceries",October!D5:D105,0))+SUM(IF(November!B5:B105="Groceries",November!D5:D105,0))+SUM(IF(December!B5:B105="Groceries",December!D5:D105,0))} -> 0
I5: Basics | J5: Extras | M5: Spending | N5: Savings | R5: Start | S5: End
F6: January | G6: {=SUM(IF(January!B5:B105="Savings",January!D5:D105,0))} -> 0 | H6: {=SUM(IF(January!B5:B105="Futur Self/Education",January!D5:D105,0))} -> 0 | I6: =January!$D$106-Intro!$G6-Intro!$H6-Intro!$J6 -> 0 | J6: {=SUM(IF(January!B5:B105="Quality Time/Treat Yourself",January!D5:D105,0))+SUM(IF(January!G5:G105="Snacks",January!J5:J105,0))} -> 0 | L6: January | M6: =IF(January!$D$106>0,January!$M$4,"") | N6: =IF(January!$D$106>0,January!$O$4,"") | O6: =IF(M6="","",IF(AND(75%<M6,M6<85%),"Ja","Nee")) | Q6: January | R6: =January!$N$26+January!$N$25 -> 0 | S6: =January!$N$28 -> 0
F7: February | G7: {=SUM(IF(February!B5:B105="Savings",February!D5:D105,0))} -> 0 | H7: {=SUM(IF(February!B5:B105="Futur Self/Education",February!D5:D105,0))} -> 0 | I7: =February!D106-Intro!$G7-Intro!$H7-Intro!$J7 -> 0 | J7: {=SUM(IF(February!B5:B105="Quality Time/Treat Yourself",February!D5:D105,0))+SUM(IF(February!B5:B105="Snacks",February!D5:D105,0))} -> 0 | L7: February | M7: =IF(February!$D$106>0,February!$M$4,"") | N7: =IF(February!$D$106>0,February!$O$4,"") | O7: =IF(M7="","",IF(AND(75%<M7,M7<85%),"Ja","Nee")) | Q7: February | R7: =February!$N$26+February!$N$25 -> 0 | S7: =February!$N$28 -> 0 | U7: TOTAL INSURANCES
F8: March | G8: {=SUM(IF(March!B5:B105="Savings",March!D5:D105,0))} -> 0 | H8: {=SUM(IF(March!B5:B105="Futur Self/Education",March!D5:D105,0))} -> 0 | I8: =March!D106-Intro!$G8-Intro!$H8-Intro!$J8 -> 0 | J8: {=SUM(IF(March!B5:B105="Quality Time/Treat Yourself",March!D5:D105,0))+SUM(IF(March!B5:B105="Snacks",March!D5:D105,0))} -> 0 | L8: March | M8: =IF(March!$D$106>0,March!$M$4,"") | N8: =IF(March!$D$106>0,March!$O$4,"") | O8: =IF(M8="","",IF(AND(75%<M8,M8<85%),"Ja","Nee")) | Q8: March | R8: =March!$N$26+March!$N$25 -> 0 | S8: =March!$N$28 -> 0 | U8: =SUM(January!N36,February!N36,March!N36,April!N36,May!N36,June!N36,July!N36,August!N36,September!N36,October!N36,November!N36,December!N36) -> 0
F9: April | G9: {=SUM(IF(April!B5:B105="Savings",April!D5:D105,0))} -> 0 | H9: {=SUM(IF(April!B5:B105="Futur Self/Education",April!D5:D105,0))} -> 0 | I9: =April!D106-Intro!$G9-Intro!$H9-Intro!$J9 -> 0 | J9: {=SUM(IF(April!B5:B105="Quality Time/Treat Yourself",April!D5:D105,0))+SUM(IF(April!B5:B105="Snacks",April!D5:D105,0))} -> 0 | L9: April | M9: =IF(April!$D$106>0,April!$M$4,"") | N9: =IF(April!$D$106>0,April!$O$4,"") | O9: =IF(M9="","",IF(AND(75%<M9,M9<85%),"Ja","Nee")) | Q9: April | R9: =April!$N$26+April!$N$25 -> 0 | S9: =April!$N$28 -> 0
F10: May | G10: {=SUM(IF(May!B5:B105="Savings",May!D5:D105,0))} -> 0 | H10: {=SUM(IF(May!B5:B105="Futur Self/Education",May!D5:D105,0))} -> 0 | I10: =May!D106-Intro!$G10-Intro!$H10-Intro!$J10 -> 0 | J10: {=SUM(IF(May!B5:B105="Quality Time/Treat Yourself",May!D5:D105,0))+SUM(IF(May!B5:B105="Snacks",May!D5:D105,0))} -> 0 | L10: May | M10: =IF(May!$D$106>0,May!$M$4,"") | N10: =IF(May!$D$106>0,May!$O$4,"") | O10: =IF(M10="","",IF(AND(75%<M10,M10<85%),"Ja","Nee")) | Q10: May | R10: =May!$N$26+May!$N$25 -> 0 | S10: =May!$N$28 -> 0
F11: June | G11: {=SUM(IF(June!B5:B105="Savings",June!D5:D105,0))} -> 0 | H11: {=SUM(IF(June!B5:B105="Futur Self/Education",June!D5:D105,0))} -> 0 | I11: =June!D106-Intro!$G11-Intro!$H11-Intro!$J11 -> 0 | J11: {=SUM(IF(June!B5:B105="Quality Time/Treat Yourself",June!D5:D105,0))+SUM(IF(June!B5:B105="Snacks",June!D5:D105,0))} -> 0 | L11: June | M11: =IF(June!$D$106>0,June!$M$4,"") | N11: =IF(June!$D$106>0,June!$O$4,"") | O11: =IF(M11="","",IF(AND(75%<M11,M11<85%),"Ja","Nee")) | Q11: June | R11: =June!$N$26+June!$N$25 -> 0 | S11: =June!$N$28 -> 0 | U11: TOTAL TAXES
F12: July | G12: {=SUM(IF(July!B5:B105="Savings",July!D5:D105,0))} -> 0 | H12: {=SUM(IF(July!B5:B105="Futur Self/Education",July!D5:D105,0))} -> 0 | I12: =July!D106-Intro!$G12-Intro!$H12-Intro!$J12 -> 0 | J12: {=SUM(IF(July!B5:B105="Quality Time/Treat Yourself",July!D5:D105,0))+SUM(IF(July!B5:B105="Snacks",July!D5:D105,0))} -> 0 | L12: July | M12: =IF(July!$D$106>0,July!$M$4,"") | N12: =IF(July!$D$106>0,July!$O$4,"") | O12: =IF(M12="","",IF(AND(75%<M12,M12<85%),"Ja","Nee")) | Q12: July | R12: =July!$N$26+July!$N$25 -> 0 | S12: =July!$N$28 -> 0 | U12: =SUM(January!N35,February!N35,March!N35,April!N35,May!N35,June!N35,July!N35,August!N35,September!N35,October!N35,November!N35,December!N35) -> 0
F13: August | G13: {=SUM(IF(August!B5:B105="Savings",August!D5:D105,0))} -> 0 | H13: {=SUM(IF(August!B5:B105="Futur Self/Education",August!D5:D105,0))} -> 0 | I13: =August!D106-Intro!$G13-Intro!$H13-Intro!$J13 -> 0 | J13: {=SUM(IF(August!B5:B105="Quality Time/Treat Yourself",August!D5:D105,0))+SUM(IF(August!B5:B105="Snacks",August!D5:D105,0))} -> 0 | L13: August | M13: =IF(August!$D$106>0,August!$M$4,"") | N13: =IF(August!$D$106>0,August!$O$4,"") | O13: =IF(M13="","",IF(AND(75%<M13,M13<85%),"Ja","Nee")) | Q13: August | R13: =August!$N$26+August!$N$25 -> 0 | S13: =August!$N$28 -> 0
F14: September | G14: {=SUM(IF(September!B5:B105="Savings",September!D5:D105,0))} -> 0 | H14: {=SUM(IF(September!B5:B105="Futur Self/Education",September!D5:D105,0))} -> 0 | I14: =September!D106-Intro!$G14-Intro!$H14-Intro!$J14 -> 0 | J14: {=SUM(IF(September!B5:B105="Quality Time/Treat Yourself",September!D5:D105,0))+SUM(IF(September!B5:B105="Snacks",September!D5:D105,0))} -> 0 | L14: September | M14: =IF(September!$D$106>0,September!$M$4,"") | N14: =IF(September!$D$106>0,September!$O$4,"") | O14: =IF(M14="","",IF(AND(75%<M14,M14<85%),"Ja","Nee")) | Q14: September | R14: =September!$N$26+September!$N$25 -> 0 | S14: =September!$N$28 -> 0
A15: TOTAL SAVED | F15: October | G15: {=SUM(IF(October!B5:B105="Savings",October!D5:D105,0))} -> 0 | H15: {=SUM(IF(October!B5:B105="Futur Self/Education",October!D5:D105,0))} -> 0 | I15: =October!D106-Intro!$G15-Intro!$H15-Intro!$J15 -> 0 | J15: {=SUM(IF(October!B5:B105="Quality Time/Treat Yourself",October!D5:D105,0))+SUM(IF(October!B5:B105="Snacks",October!D5:D105,0))} -> 0 | L15: October | M15: =IF(October!$D$106>0,October!$M$4,"") | N15: =IF(October!$D$106>0,October!$O$4,"") | O15: =IF(M15="","",IF(AND(75%<M15,M15<85%),"Ja","Nee")) | Q15: October | R15: =October!$N$26+October!$N$25 -> 0 | S15: =October!$N$28 -> 0 | U15: TOTAL TRANSPORT
A16: =SUM(G6:G17) -> 0 | F16: November | G16: {=SUM(IF(November!B5:B105="Savings",November!D5:D105,0))} -> 0 | H16: {=SUM(IF(November!B5:B105="Futur Self/Education",November!D5:D105,0))} -> 0 | I16: =November!D106-Intro!$G16-Intro!$H16-Intro!$J16 -> 0 | J16: {=SUM(IF(November!B5:B105="Quality Time/Treat Yourself",November!D5:D105,0))+SUM(IF(November!B5:B105="Snacks",November!D5:D105,0))} -> 0 | L16: November | M16: =IF(November!$D$106>0,November!$M$4,"") | N16: =IF(November!$D$106>0,November!$O$4,"") | O16: =IF(M16="","",IF(AND(75%<M16,M16<85%),"Ja","Nee")) | Q16: November | R16: =November!$N$26+November!$N$25 -> 0 | S16: =November!$N$28 -> 0 | U16: =SUM(January!N41,February!N41,March!N41,April!N41,May!N41,June!N41,July!N41,August!N41,September!N41,October!N41,November!N41,December!N41) -> 0
F17: December | G17: {=SUM(IF(December!B5:B105="Savings",December!D5:D105,0))} -> 0 | H17: {=SUM(IF(December!B5:B105="Futur Self/Education",December!D5:D105,0))} -> 0 | I17: =December!D106-Intro!$G17-Intro!$H17-Intro!$J17 -> 0 | J17: {=SUM(IF(December!B5:B105="Quality Time/Treat Yourself",December!D5:D105,0))+SUM(IF(December!B5:B105="Snacks",December!D5:D105,0))} -> 0 | L17: December | M17: =IF(December!$D$106>0,December!$M$4,"") | N17: =IF(December!$D$106>0,December!$O$4,"") | O17: =IF(M17="","",IF(AND(75%<M17,M17<85%),"Ja","Nee")) | Q17: December | R17: =December!$N$26+December!$N$25 -> 0 | S17: =December!$N$28 -> 0
A20: TOTAL GIFTED | F20: TOTAL INVESTED | L20: TOTAL SPEND | Q20: TOTAL QUALITY TIME/TREAT YOURSELF
A21: {=SUM(IF(January!B5:B105="Gifts",January!D5:D105,0))+SUM(IF(February!B5:B105="Gifts",February!D5:D105,0))+SUM(IF(March!B5:B105="Gifts",March!D5:D105,0))+SUM(IF(April!B5:B105="Gifts",April!D5:D105,0))+SUM(IF(May!B5:B105="Gifts",May!D5:D105,0))+SUM(IF(June!B5:B105="Gifts",June!D5:D105,0))+SUM(IF(July!B5:B105="Gifts",July!D5:D105,0))+SUM(IF(August!B5:B105="Gifts",August!D5:D105,0))+SUM(IF(September!B5:B105="Gifts",September!D5:D105,0))+SUM(IF(October!B5:B105="Gifts",October!D5:D105,0))+SUM(IF(November!B5:B105="Gifts",November!D5:D105,0))+SUM(IF(December!B5:B105="Gifts",December!D5:D105,0))} -> 0 | F21: =SUM(H6:H17) -> 0 | L21: =SUM(I6:J17) -> 0 | Q21: {=SUM(IF(January!B5:B105="Quality Time/Treat Yourself",January!D5:D105,0))+SUM(IF(February!B5:B105="Quality Time/Treat Yourself",February!D5:D105,0))+SUM(IF(March!B5:B105="Quality Time/Treat Yourself",March!D5:D105,0))+SUM(IF(April!B5:B105="Quality Time/Treat Yourself",April!D5:D105,0))+SUM(IF(May!B5:B105="Quality Time/Treat Yourself",May!D5:D105,0))+SUM(IF(June!B5:B105="Quality Time/Treat Yourself",June!D5:D105,0))+SUM(IF(July!B5:B105="Quality Time/Treat Yourself",July!D5:D105,0))+SUM(IF(August!B5:B105="Quality Time/Treat Yourself",August!D5:D105,0))+SUM(IF(September!B5:B105="Quality Time/Treat Yourself",September!D5:D105,0))+SUM(IF(October!B5:B105="Quality Time/Treat Yourself",October!D5:D105,0))+SUM(IF(November!B5:B105="Quality Time/Treat Yourself",November!D5:D105,0))+SUM(IF(December!B5:B105="Quality Time/Treat Yourself",December!D5:D105,0))} -> 0

Sheet January
A1: January
A3: PURCHASES | F3: GROCERIES | L3: BUDGET DISTRIBUTION
A4: Date | B4: Type | C4: Product/service | D4: € | F4: Product | G4: Group | H4: €/unit | I4: Units | J4: € | L4: Spending | M4: {=(SUM(IF(B5:B105="Savings",0,D5:D105)))/D106} -> #DIV/0! | N4: Saving | O4: {=(SUM(IF(B5:B105="Savings",D5:D105,0)))/D106} -> #DIV/0!
J5: =H5*I5 -> 0 | P5: Food | Q5: {=(SUM(IF(G5:G105="Food",J5:J105,0)))/J106} -> #DIV/0!
J6: =H6*I6 -> 0 | P6: Snacks | Q6: {=(SUM(IF(G5:G105="Snacks",J5:J105,0)))/J106} -> #DIV/0!
J7: =H7*I7 -> 0 | P7: Non-food | Q7: {=(SUM(IF(G5:G105="Non-food",J5:J105,0)))/J106} -> #DIV/0!
J8: =H8*I8 -> 0
J9: =H9*I9 -> 0
J10: =H10*I10 -> 0
J11: =H11*I11 -> 0
J12: =H12*I12 -> 0
J13: =H13*I13 -> 0
J14: =H14*I14 -> 0 | L14: GROCERIES DISTRIBUTION
J15: =H15*I15 -> 0
J16: =H16*I16 -> 0
J17: =H17*I17 -> 0
J18: =H18*I18 -> 0
J19: =H19*I19 -> 0
J20: =H20*I20 -> 0
J21: =H21*I21 -> 0
J22: =H22*I22 -> 0
J23: =H23*I23 -> 0
J24: =H24*I24 -> 0 | L24: CASHFLOW
J25: =H25*I25 -> 0 | L25: Budget
J26: =H26*I26 -> 0 | L26: Previous Endbalance
J27: =H27*I27 -> 0 | L27: Spend | N27: =D106 -> 0
J28: =H28*I28 -> 0 | L28: Left | N28: =N25+N26-N27 -> 0
J29: =H29*I29 -> 0
J30: =H30*I30 -> 0
J31: =H31*I31 -> 0 | L31: TOTAL PURCHASES
J32: =H32*I32 -> 0 | L32: Groceries | N32: {=SUM(IF($B$5:$B$105=$L32,$D$5:$D$105))} -> 0
J33: =H33*I33 -> 0 | L33: Household | N33: {=SUM(IF($B$5:$B$105=$L33,$D$5:$D$105))} -> 0
J34: =H34*I34 -> 0 | L34: Maintenance | N34: {=SUM(IF($B$5:$B$105=$L34,$D$5:$D$105))} -> 0
J35: =H35*I35 -> 0 | L35: Taxes | N35: {=SUM(IF($B$5:$B$105=$L35,$D$5:$D$105))} -> 0
J36: =H36*I36 -> 0 | L36: Insurance | N36: {=SUM(IF($B$5:$B$105=$L36,$D$5:$D$105))} -> 0
J37: =H37*I37 -> 0 | L37: Gas | N37: {=SUM(IF($B$5:$B$105=$L37,$D$5:$D$105))} -> 0
J38: =H38*I38 -> 0 | L38: Water | N38: {=SUM(IF($B$5:$B$105=$L38,$D$5:$D$105))} -> 0
J39: =H39*I39 -> 0 | L39: Electricity | N39: {=SUM(IF($B$5:$B$105=$L39,$D$5:$D$105))} -> 0
J40: =H40*I40 -> 0 | L40: Wifi/Mobile | N40: {=SUM(IF($B$5:$B$105=$L40,$D$5:$D$105))} -> 0
J41: =H41*I41 -> 0 | L41: Transport | N41: {=SUM(IF($B$5:$B$105=$L41,$D$5:$D$105))} -> 0
J42: =H42*I42 -> 0 | L42: Health | N42: {=SUM(IF($B$5:$B$105=$L42,$D$5:$D$105))} -> 0
J43: =H43*I43 -> 0 | L43: Clothes/Shoes | N43: {=SUM(IF($B$5:$B$105=$L43,$D$5:$D$105))} -> 0
... J45: =H45*I45 -> 0 | L45: Quality Time/Treat Yourself | N45: {=SUM(IF($B$5:$B$105=$L45,$D$5:$D$105))} -> 0
J46: =H46*I46 -> 0
J47: =H47*I47 -> 0 | L47: Savings | N47: {=SUM(IF($B$5:$B$105=$L47,$D$5:$D$105))} -> 0
J48: =H48*I48 -> 0 | L48: Gifts | N48: {=SUM(IF($B$5:$B$105=$L48,$D$5:$D$105))} -> 0
J49: =H49*I49 -> 0
J50: =H50*I50 -> 0
J51: =H51*I51 -> 0
J52: =H52*I52 -> 0
J53: =H53*I53 -> 0
J54: =H54*I54 -> 0
J55: =H55*I55 -> 0
J56: =H56*I56 -> 0
J57: =H57*I57 -> 0
J58: =H58*I58 -> 0
J59: =H59*I59 -> 0
J60: =H60*I60 -> 0
... J105: =H105*I105 -> 0
C106: TOTAAL | D106: =SUM(D5:D105) -> 0 | H106: TOTAAL | J106: =SUM(J5:J105) -> 0

Sheet February
A1: February
A3: PURCHASES | F3: GROCERIES | L3: BUDGET DISTRIBUTION
A4: Date | B4: Type | C4: Product/service | D4: € | F4: Product | G4: Group | H4: €/unit | I4: Units | J4: € | L4: Spending | M4: {=(SUM(IF(B5:B105="Savings",0,D5:D105)))/D106} -> #DIV/0! | N4: Saving | O4: {=(SUM(IF(B5:B105="Savings",D5:D105,0)))/D106} -> #DIV/0!
J5: =H5*I5 -> 0 | P5: Food | Q5: {=(SUM(IF(G5:G105="Food",J5:J105,0)))/J106} -> #DIV/0!
J6: =H6*I6 -> 0 | P6: Snacks | Q6: {=(SUM(IF(G5:G105="Snacks",J5:J105,0)))/J106} -> #DIV/0!
J7: =H7*I7 -> 0 | P7: Non-food | Q7: {=(SUM(IF(G5:G105="Non-food",J5:J105,0)))/J106} -> #DIV/0!
J8: =H8*I8 -> 0
J9: =H9*I9 -> 0
J10: =H10*I10 -> 0
J11: =H11*I11 -> 0
J12: =H12*I12 -> 0
J13: =H13*I13 -> 0
J14: =H14*I14 -> 0 | L14: GROCERIES DISTRIBUTION
J15: =H15*I15 -> 0
J16: =H16*I16 -> 0
J17: =H17*I17 -> 0
J18: =H18*I18 -> 0
J19: =H19*I19 -> 0
J20: =H20*I20 -> 0
J21: =H21*I21 -> 0
J22: =H22*I22 -> 0
J23: =H23*I23 -> 0
J24: =H24*I24 -> 0 | L24: CASHFLOW
J25: =H25*I25 -> 0 | L25: Budget
J26: =H26*I26 -> 0 | L26: Previous Endbalance | N26: =January!N28 -> 0
J27: =H27*I27 -> 0 | L27: Spend | N27: =D106 -> 0
J28: =H28*I28 -> 0 | L28: Left | N28: =N25+N26-N27 -> 0
J29: =H29*I29 -> 0
J30: =H30*I30 -> 0
J31: =H31*I31 -> 0 | L31: TOTAL PURCHASES
J32: =H32*I32 -> 0 | L32: Groceries | N32: {=SUM(IF($B$5:$B$105=$L32,$D$5:$D$105))} -> 0
J33: =H33*I33 -> 0 | L33: Household | N33: {=SUM(IF($B$5:$B$105=$L33,$D$5:$D$105))} -> 0
J34: =H34*I34 -> 0 | L34: Maintenance | N34: {=SUM(IF($B$5:$B$105=$L34,$D$5:$D$105))} -> 0
J35: =H35*I35 -> 0 | L35: Taxes | N35: {=SUM(IF($B$5:$B$105=$L35,$D$5:$D$105))} -> 0
J36: =H36*I36 -> 0 | L36: Insurance | N36: {=SUM(IF($B$5:$B$105=$L36,$D$5:$D$105))} -> 0
J37: =H37*I37 -> 0 | L37: Gas | N37: {=SUM(IF($B$5:$B$105=$L37,$D$5:$D$105))} -> 0
J38: =H38*I38 -> 0 | L38: Water | N38: {=SUM(IF($B$5:$B$105=$L38,$D$5:$D$105))} -> 0
J39: =H39*I39 -> 0 | L39: Electricity | N39: {=SUM(IF($B$5:$B$105=$L39,$D$5:$D$105))} -> 0
J40: =H40*I40 -> 0 | L40: Wifi/Mobile | N40: {=SUM(IF($B$5:$B$105=$L40,$D$5:$D$105))} -> 0
J41: =H41*I41 -> 0 | L41: Transport | N41: {=SUM(IF($B$5:$B$105=$L41,$D$5:$D$105))} -> 0
J42: =H42*I42 -> 0 | L42: Health | N42: {=SUM(IF($B$5:$B$105=$L42,$D$5:$D$105))} -> 0
J43: =H43*I43 -> 0 | L43: Clothes/Shoes | N43: {=SUM(IF($B$5:$B$105=$L43,$D$5:$D$105))} -> 0
... J45: =H45*I45 -> 0 | L45: Quality Time/Treat Yourself | N45: {=SUM(IF($B$5:$B$105=$L45,$D$5:$D$105))} -> 0
J46: =H46*I46 -> 0
J47: =H47*I47 -> 0 | L47: Savings | N47: {=SUM(IF($B$5:$B$105=$L47,$D$5:$D$105))} -> 0
J48: =H48*I48 -> 0 | L48: Gifts | N48: {=SUM(IF($B$5:$B$105=$L48,$D$5:$D$105))} -> 0
J49: =H49*I49 -> 0
J50: =H50*I50 -> 0
J51: =H51*I51 -> 0
J52: =H52*I52 -> 0
J53: =H53*I53 -> 0
J54: =H54*I54 -> 0
J55: =H55*I55 -> 0
J56: =H56*I56 -> 0
J57: =H57*I57 -> 0
J58: =H58*I58 -> 0
J59: =H59*I59 -> 0
J60: =H60*I60 -> 0
... J105: =H105*I105 -> 0
C106: TOTAAL | D106: =SUM(D5:D105) -> 0 | H106: TOTAAL | J106: =SUM(J5:J105) -> 0

Sheet March
A1: March
A3: PURCHASES | F3: GROCERIES | L3: BUDGET DISTRIBUTION
A4: Date | B4: Type | C4: Product/service | D4: € | F4: Product | G4: Group | H4: €/unit | I4: Units | J4: € | L4: Spending | M4: {=(SUM(IF(B5:B105="Savings",0,D5:D105)))/D106} -> #DIV/0! | N4: Saving | O4: {=(SUM(IF(B5:B105="Savings",D5:D105,0)))/D106} -> #DIV/0!
J5: =H5*I5 -> 0 | P5: Food | Q5: {=(SUM(IF(G5:G105="Food",J5:J105,0)))/J106} -> #DIV/0!
J6: =H6*I6 -> 0 | P6: Snacks | Q6: {=(SUM(IF(G5:G105="Snacks",J5:J105,0)))/J106} -> #DIV/0!
J7: =H7*I7 -> 0 | P7: Non-food | Q7: {=(SUM(IF(G5:G105="Non-food",J5:J105,0)))/J106} -> #DIV/0!
J8: =H8*I8 -> 0
J9: =H9*I9 -> 0
J10: =H10*I10 -> 0
J11: =H11*I11 -> 0
J12: =H12*I12 -> 0
J13: =H13*I13 -> 0
J14: =H14*I14 -> 0 | L14: GROCERIES DISTRIBUTION
J15: =H15*I15 -> 0
J16: =H16*I16 -> 0
J17: =H17*I17 -> 0
J18: =H18*I18 -> 0
J19: =H19*I19 -> 0
J20: =H20*I20 -> 0
J21: =H21*I21 -> 0
J22: =H22*I22 -> 0
J23: =H23*I23 -> 0
J24: =H24*I24 -> 0 | L24: CASHFLOW
J25: =H25*I25 -> 0 | L25: Budget
J26: =H26*I26 -> 0 | L26: Previous Endbalance | N26: =February!N28 -> 0
J27: =H27*I27 -> 0 | L27: Spend | N27: =D106 -> 0
J28: =H28*I28 -> 0 | L28: Left | N28: =N25+N26-N27 -> 0
J29: =H29*I29 -> 0
J30: =H30*I30 -> 0
J31: =H31*I31 -> 0 | L31: TOTAL PURCHASES
J32: =H32*I32 -> 0 | L32: Groceries | N32: {=SUM(IF($B$5:$B$105=$L32,$D$5:$D$105))} -> 0
J33: =H33*I33 -> 0 | L33: Household | N33: {=SUM(IF($B$5:$B$105=$L33,$D$5:$D$105))} -> 0
J34: =H34*I34 -> 0 | L34: Maintenance | N34: {=SUM(IF($B$5:$B$105=$L34,$D$5:$D$105))} -> 0
J35: =H35*I35 -> 0 | L35: Taxes | N35: {=SUM(IF($B$5:$B$105=$L35,$D$5:$D$105))} -> 0
J36: =H36*I36 -> 0 | L36: Insurance | N36: {=SUM(IF($B$5:$B$105=$L36,$D$5:$D$105))} -> 0
J37: =H37*I37 -> 0 | L37: Gas | N37: {=SUM(IF($B$5:$B$105=$L37,$D$5:$D$105))} -> 0
J38: =H38*I38 -> 0 | L38: Water | N38: {=SUM(IF($B$5:$B$105=$L38,$D$5:$D$105))} -> 0
J39: =H39*I39 -> 0 | L39: Electricity | N39: {=SUM(IF($B$5:$B$105=$L39,$D$5:$D$105))} -> 0
J40: =H40*I40 -> 0 | L40: Wifi/Mobile | N40: {=SUM(IF($B$5:$B$105=$L40,$D$5:$D$105))} -> 0
J41: =H41*I41 -> 0 | L41: Transport | N41: {=SUM(IF($B$5:$B$105=$L41,$D$5:$D$105))} -> 0
J42: =H42*I42 -> 0 | L42: Health | N42: {=SUM(IF($B$5:$B$105=$L42,$D$5:$D$105))} -> 0
J43: =H43*I43 -> 0 | L43: Clothes/Shoes | N43: {=SUM(IF($B$5:$B$105=$L43,$D$5:$D$105))} -> 0
... J45: =H45*I45 -> 0 | L45: Quality Time/Treat Yourself | N45: {=SUM(IF($B$5:$B$105=$L45,$D$5:$D$105))} -> 0
J46: =H46*I46 -> 0
J47: =H47*I47 -> 0 | L47: Savings | N47: {=SUM(IF($B$5:$B$105=$L47,$D$5:$D$105))} -> 0
J48: =H48*I48 -> 0 | L48: Gifts | N48: {=SUM(IF($B$5:$B$105=$L48,$D$5:$D$105))} -> 0
J49: =H49*I49 -> 0
J50: =H50*I50 -> 0
J51: =H51*I51 -> 0
J52: =H52*I52 -> 0
J53: =H53*I53 -> 0
J54: =H54*I54 -> 0
J55: =H55*I55 -> 0
J56: =H56*I56 -> 0
J57: =H57*I57 -> 0
J58: =H58*I58 -> 0
J59: =H59*I59 -> 0
J60: =H60*I60 -> 0
... J105: =H105*I105 -> 0
C106: TOTAAL | D106: =SUM(D5:D105) -> 0 | H106: TOTAAL | J106: =SUM(J5:J105) -> 0

Sheet April
A1: April
A3: PURCHASES | F3: GROCERIES | L3: BUDGET DISTRIBUTION
A4: Date | B4: Type | C4: Product/service | D4: € | F4: Product | G4: Group | H4: €/unit | I4: Units | J4: € | L4: Spending | M4: {=(SUM(IF(B5:B105="Savings",0,D5:D105)))/D106} -> #DIV/0! | N4: Saving | O4: {=(SUM(IF(B5:B105="Savings",D5:D105,0)))/D106} -> #DIV/0!
J5: =H5*I5 -> 0 | P5: Food | Q5: {=(SUM(IF(G5:G105="Food",J5:J105,0)))/J106} -> #DIV/0!
J6: =H6*I6 -> 0 | P6: Snacks | Q6: {=(SUM(IF(G5:G105="Snacks",J5:J105,0)))/J106} -> #DIV/0!
J7: =H7*I7 -> 0 | P7: Non-food | Q7: {=(SUM(IF(G5:G105="Non-food",J5:J105,0)))/J106} -> #DIV/0!
J8: =H8*I8 -> 0
J9: =H9*I9 -> 0
J10: =H10*I10 -> 0
J11: =H11*I11 -> 0
J12: =H12*I12 -> 0
J13: =H13*I13 -> 0
J14: =H14*I14 -> 0 | L14: GROCERIES DISTRIBUTION
J15: =H15*I15 -> 0
J16: =H16*I16 -> 0
J17: =H17*I17 -> 0
J18: =H18*I18 -> 0
J19: =H19*I19 -> 0
J20: =H20*I20 -> 0
J21: =H21*I21 -> 0
J22: =H22*I22 -> 0
J23: =H23*I23 -> 0
J24: =H24*I24 -> 0 | L24: CASHFLOW
J25: =H25*I25 -> 0 | L25: Budget
J26: =H26*I26 -> 0 | L26: Previous Endbalance | N26: =March!N28 -> 0
J27: =H27*I27 -> 0 | L27: Spend | N27: =D106 -> 0
J28: =H28*I28 -> 0 | L28: Left | N28: =N25+N26-N27 -> 0
J29: =H29*I29 -> 0
J30: =H30*I30 -> 0
J31: =H31*I31 -> 0 | L31: TOTAL PURCHASES
J32: =H32*I32 -> 0 | L32: Groceries | N32: {=SUM(IF($B$5:$B$105=$L32,$D$5:$D$105))} -> 0
J33: =H33*I33 -> 0 | L33: Household | N33: {=SUM(IF($B$5:$B$105=$L33,$D$5:$D$105))} -> 0
J34: =H34*I34 -> 0 | L34: Maintenance | N34: {=SUM(IF($B$5:$B$105=$L34,$D$5:$D$105))} -> 0
J35: =H35*I35 -> 0 | L35: Taxes | N35: {=SUM(IF($B$5:$B$105=$L35,$D$5:$D$105))} -> 0
J36: =H36*I36 -> 0 | L36: Insurance | N36: {=SUM(IF($B$5:$B$105=$L36,$D$5:$D$105))} -> 0
J37: =H37*I37 -> 0 | L37: Gas | N37: {=SUM(IF($B$5:$B$105=$L37,$D$5:$D$105))} -> 0
J38: =H38*I38 -> 0 | L38: Water | N38: {=SUM(IF($B$5:$B$105=$L38,$D$5:$D$105))} -> 0
J39: =H39*I39 -> 0 | L39: Electricity | N39: {=SUM(IF($B$5:$B$105=$L39,$D$5:$D$105))} -> 0
J40: =H40*I40 -> 0 | L40: Wifi/Mobile | N40: {=SUM(IF($B$5:$B$105=$L40,$D$5:$D$105))} -> 0
J41: =H41*I41 -> 0 | L41: Transport | N41: {=SUM(IF($B$5:$B$105=$L41,$D$5:$D$105))} -> 0
J42: =H42*I42 -> 0 | L42: Health | N42: {=SUM(IF($B$5:$B$105=$L42,$D$5:$D$105))} -> 0
J43: =H43*I43 -> 0 | L43: Clothes/Shoes | N43: {=SUM(IF($B$5:$B$105=$L43,$D$5:$D$105))} -> 0
... J45: =H45*I45 -> 0 | L45: Quality Time/Treat Yourself | N45: {=SUM(IF($B$5:$B$105=$L45,$D$5:$D$105))} -> 0
J46: =H46*I46 -> 0
J47: =H47*I47 -> 0 | L47: Savings | N47: {=SUM(IF($B$5:$B$105=$L47,$D$5:$D$105))} -> 0
J48: =H48*I48 -> 0 | L48: Gifts | N48: {=SUM(IF($B$5:$B$105=$L48,$D$5:$D$105))} -> 0
J49: =H49*I49 -> 0
J50: =H50*I50 -> 0
J51: =H51*I51 -> 0
J52: =H52*I52 -> 0
J53: =H53*I53 -> 0
J54: =H54*I54 -> 0
J55: =H55*I55 -> 0
J56: =H56*I56 -> 0
J57: =H57*I57 -> 0
J58: =H58*I58 -> 0
J59: =H59*I59 -> 0
J60: =H60*I60 -> 0
... J105: =H105*I105 -> 0
C106: TOTAAL | D106: =SUM(D5:D105) -> 0 | H106: TOTAAL | J106: =SUM(J5:J105) -> 0

Sheet May
A1: May
A3: PURCHASES | F3: GROCERIES | L3: BUDGET DISTRIBUTION
A4: Date | B4: Type | C4: Product/service | D4: € | F4: Product | G4: Group | H4: €/unit | I4: Units | J4: € | L4: Spending | M4: {=(SUM(IF(B5:B105="Savings",0,D5:D105)))/D106} -> #DIV/0! | N4: Saving | O4: {=(SUM(IF(B5:B105="Savings",D5:D105,0)))/D106} -> #DIV/0!
J5: =H5*I5 -> 0 | P5: Food | Q5: {=(SUM(IF(G5:G105="Food",J5:J105,0)))/J106} -> #DIV/0!
J6: =H6*I6 -> 0 | P6: Snacks | Q6: {=(SUM(IF(G5:G105="Snacks",J5:J105,0)))/J106} -> #DIV/0!
J7: =H7*I7 -> 0 | P7: Non-food | Q7: {=(SUM(IF(G5:G105="Non-food",J5:J105,0)))/J106} -> #DIV/0!
J8: =H8*I8 -> 0
J9: =H9*I9 -> 0
J10: =H10*I10 -> 0
J11: =H11*I11 -> 0
J12: =H12*I12 -> 0
J13: =H13*I13 -> 0
J14: =H14*I14 -> 0 | L14: GROCERIES DISTRIBUTION
J15: =H15*I15 -> 0
J16: =H16*I16 -> 0
J17: =H17*I17 -> 0
J18: =H18*I18 -> 0
J19: =H19*I19 -> 0
J20: =H20*I20 -> 0
J21: =H21*I21 -> 0
J22: =H22*I22 -> 0
J23: =H23*I23 -> 0
J24: =H24*I24 -> 0 | L24: CASHFLOW
J25: =H25*I25 -> 0 | L25: Budget
J26: =H26*I26 -> 0 | L26: Previous Endbalance | N26: =April!N28 -> 0
J27: =H27*I27 -> 0 | L27: Spend | N27: =D106 -> 0
J28: =H28*I28 -> 0 | L28: Left | N28: =N25+N26-N27 -> 0
J29: =H29*I29 -> 0
J30: =H30*I30 -> 0
J31: =H31*I31 -> 0 | L31: TOTAL PURCHASES
J32: =H32*I32 -> 0 | L32: Groceries | N32: {=SUM(IF($B$5:$B$105=$L32,$D$5:$D$105))} -> 0
J33: =H33*I33 -> 0 | L33: Household | N33: {=SUM(IF($B$5:$B$105=$L33,$D$5:$D$105))} -> 0
J34: =H34*I34 -> 0 | L34: Maintenance | N34: {=SUM(IF($B$5:$B$105=$L34,$D$5:$D$105))} -> 0
J35: =H35*I35 -> 0 | L35: Taxes | N35: {=SUM(IF($B$5:$B$105=$L35,$D$5:$D$105))} -> 0
J36: =H36*I36 -> 0 | L36: Insurance | N36: {=SUM(IF($B$5:$B$105=$L36,$D$5:$D$105))} -> 0
J37: =H37*I37 -> 0 | L37: Gas | N37: {=SUM(IF($B$5:$B$105=$L37,$D$5:$D$105))} -> 0
J38: =H38*I38 -> 0 | L38: Water | N38: {=SUM(IF($B$5:$B$105=$L38,$D$5:$D$105))} -> 0
J39: =H39*I39 -> 0 | L39: Electricity | N39: {=SUM(IF($B$5:$B$105=$L39,$D$5:$D$105))} -> 0
J40: =H40*I40 -> 0 | L40: Wifi/Mobile | N40: {=SUM(IF($B$5:$B$105=$L40,$D$5:$D$105))} -> 0
J41: =H41*I41 -> 0 | L41: Transport | N41: {=SUM(IF($B$5:$B$105=$L41,$D$5:$D$105))} -> 0
J42: =H42*I42 -> 0 | L42: Health | N42: {=SUM(IF($B$5:$B$105=$L42,$D$5:$D$105))} -> 0
J43: =H43*I43 -> 0 | L43: Clothes/Shoes | N43: {=SUM(IF($B$5:$B$105=$L43,$D$5:$D$105))} -> 0
... J45: =H45*I45 -> 0 | L45: Quality Time/Treat Yourself | N45: {=SUM(IF($B$5:$B$105=$L45,$D$5:$D$105))} -> 0
J46: =H46*I46 -> 0
J47: =H47*I47 -> 0 | L47: Savings | N47: {=SUM(IF($B$5:$B$105=$L47,$D$5:$D$105))} -> 0
J48: =H48*I48 -> 0 | L48: Gifts | N48: {=SUM(IF($B$5:$B$105=$L48,$D$5:$D$105))} -> 0
J49: =H49*I49 -> 0
J50: =H50*I50 -> 0
J51: =H51*I51 -> 0
J52: =H52*I52 -> 0
J53: =H53*I53 -> 0
J54: =H54*I54 -> 0
J55: =H55*I55 -> 0
J56: =H56*I56 -> 0
J57: =H57*I57 -> 0
J58: =H58*I58 -> 0
J59: =H59*I59 -> 0
J60: =H60*I60 -> 0
... J105: =H105*I105 -> 0
C106: TOTAAL | D106: =SUM(D5:D105) -> 0 | H106: TOTAAL | J106: =SUM(J5:J105) -> 0

Sheet June
A1: June
A3: PURCHASES | F3: GROCERIES | L3: BUDGET DISTRIBUTION
A4: Date | B4: Type | C4: Product/service | D4: € | F4: Product | G4: Group | H4: €/unit | I4: Units | J4: € | L4: Spending | M4: {=(SUM(IF(B5:B105="Savings",0,D5:D105)))/D106} -> #DIV/0! | N4: Saving | O4: {=(SUM(IF(B5:B105="Savings",D5:D105,0)))/D106} -> #DIV/0!
J5: =H5*I5 -> 0 | P5: Food | Q5: {=(SUM(IF(G5:G105="Food",J5:J105,0)))/J106} -> #DIV/0!
J6: =H6*I6 -> 0 | P6: Snacks | Q6: {=(SUM(IF(G5:G105="Snacks",J5:J105,0)))/J106} -> #DIV/0!
J7: =H7*I7 -> 0 | P7: Non-food | Q7: {=(SUM(IF(G5:G105="Non-food",J5:J105,0)))/J106} -> #DIV/0!
J8: =H8*I8 -> 0
J9: =H9*I9 -> 0
J10: =H10*I10 -> 0
J11: =H11*I11 -> 0
J12: =H12*I12 -> 0
J13: =H13*I13 -> 0
J14: =H14*I14 -> 0 | L14: GROCERIES DISTRIBUTION
J15: =H15*I15 -> 0
J16: =H16*I16 -> 0
J17: =H17*I17 -> 0
J18: =H18*I18 -> 0
J19: =H19*I19 -> 0
J20: =H20*I20 -> 0
J21: =H21*I21 -> 0
J22: =H22*I22 -> 0
J23: =H23*I23 -> 0
J24: =H24*I24 -> 0 | L24: CASHFLOW
J25: =H25*I25 -> 0 | L25: Budget
J26: =H26*I26 -> 0 | L26: Previous Endbalance | N26: =May!N28 -> 0
J27: =H27*I27 -> 0 | L27: Spend | N27: =D106 -> 0
J28: =H28*I28 -> 0 | L28: Left | N28: =N25+N26-N27 -> 0
J29: =H29*I29 -> 0
J30: =H30*I30 -> 0
J31: =H31*I31 -> 0 | L31: TOTAL PURCHASES
J32: =H32*I32 -> 0 | L32: Groceries | N32: {=SUM(IF($B$5:$B$105=$L32,$D$5:$D$105))} -> 0
J33: =H33*I33 -> 0 | L33: Household | N33: {=SUM(IF($B$5:$B$105=$L33,$D$5:$D$105))} -> 0
J34: =H34*I34 -> 0 | L34: Maintenance | N34: {=SUM(IF($B$5:$B$105=$L34,$D$5:$D$105))} -> 0
J35: =H35*I35 -> 0 | L35: Taxes | N35: {=SUM(IF($B$5:$B$105=$L35,$D$5:$D$105))} -> 0
J36: =H36*I36 -> 0 | L36: Insurance | N36: {=SUM(IF($B$5:$B$105=$L36,$D$5:$D$105))} -> 0
J37: =H37*I37 -> 0 | L37: Gas | N37: {=SUM(IF($B$5:$B$105=$L37,$D$5:$D$105))} -> 0
J38: =H38*I38 -> 0 | L38: Water | N38: {=SUM(IF($B$5:$B$105=$L38,$D$5:$D$105))} -> 0
J39: =H39*I39 -> 0 | L39: Electricity | N39: {=SUM(IF($B$5:$B$105=$L39,$D$5:$D$105))} -> 0
J40: =H40*I40 -> 0 | L40: Wifi/Mobile | N40: {=SUM(IF($B$5:$B$105=$L40,$D$5:$D$105))} -> 0
J41: =H41*I41 -> 0 | L41: Transport | N41: {=SUM(IF($B$5:$B$105=$L41,$D$5:$D$105))} -> 0
J42: =H42*I42 -> 0 | L42: Health | N42: {=SUM(IF($B$5:$B$105=$L42,$D$5:$D$105))} -> 0
J43: =H43*I43 -> 0 | L43: Clothes/Shoes | N43: {=SUM(IF($B$5:$B$105=$L43,$D$5:$D$105))} -> 0
... J45: =H45*I45 -> 0 | L45: Quality Time/Treat Yourself | N45: {=SUM(IF($B$5:$B$105=$L45,$D$5:$D$105))} -> 0
J46: =H46*I46 -> 0
J47: =H47*I47 -> 0 | L47: Savings | N47: {=SUM(IF($B$5:$B$105=$L47,$D$5:$D$105))} -> 0
J48: =H48*I48 -> 0 | L48: Gifts | N48: {=SUM(IF($B$5:$B$105=$L48,$D$5:$D$105))} -> 0
J49: =H49*I49 -> 0
J50: =H50*I50 -> 0
J51: =H51*I51 -> 0
J52: =H52*I52 -> 0
J53: =H53*I53 -> 0
J54: =H54*I54 -> 0
J55: =H55*I55 -> 0
J56: =H56*I56 -> 0
J57: =H57*I57 -> 0
J58: =H58*I58 -> 0
J59: =H59*I59 -> 0
J60: =H60*I60 -> 0
... J105: =H105*I105 -> 0
C106: TOTAAL | D106: =SUM(D5:D105) -> 0 | H106: TOTAAL | J106: =SUM(J5:J105) -> 0

Sheet July
A1: July
A3: PURCHASES | F3: GROCERIES | L3: BUDGET DISTRIBUTION
A4: Date | B4: Type | C4: Product/service | D4: € | F4: Product | G4: Group | H4: €/unit | I4: Units | J4: € | L4: Spending | M4: {=(SUM(IF(B5:B105="Savings",0,D5:D105)))/D106} -> #DIV/0! | N4: Saving | O4: {=(SUM(IF(B5:B105="Savings",D5:D105,0)))/D106} -> #DIV/0!
J5: =H5*I5 -> 0 | P5: Food | Q5: {=(SUM(IF(G5:G105="Food",J5:J105,0)))/J106} -> #DIV/0!
J6: =H6*I6 -> 0 | P6: Snacks | Q6: {=(SUM(IF(G5:G105="Snacks",J5:J105,0)))/J106} -> #DIV/0!
J7: =H7*I7 -> 0 | P7: Non-food | Q7: {=(SUM(IF(G5:G105="Non-food",J5:J105,0)))/J106} -> #DIV/0!
J8: =H8*I8 -> 0
J9: =H9*I9 -> 0
J10: =H10*I10 -> 0
J11: =H11*I11 -> 0
J12: =H12*I12 -> 0
J13: =H13*I13 -> 0
J14: =H14*I14 -> 0 | L14: GROCERIES DISTRIBUTION
J15: =H15*I15 -> 0
J16: =H16*I16 -> 0
J17: =H17*I17 -> 0
J18: =H18*I18 -> 0
J19: =H19*I19 -> 0
J20: =H20*I20 -> 0
J21: =H21*I21 -> 0
J22: =H22*I22 -> 0
J23: =H23*I23 -> 0
J24: =H24*I24 -> 0 | L24: CASHFLOW
J25: =H25*I25 -> 0 | L25: Budget
J26: =H26*I26 -> 0 | L26: Previous Endbalance | N26: =June!N28 -> 0
J27: =H27*I27 -> 0 | L27: Spend | N27: =D106 -> 0
J28: =H28*I28 -> 0 | L28: Left | N28: =N25+N26-N27 -> 0
J29: =H29*I29 -> 0
J30: =H30*I30 -> 0
J31: =H31*I31 -> 0 | L31: TOTAL PURCHASES
J32: =H32*I32 -> 0 | L32: Groceries | N32: {=SUM(IF($B$5:$B$105=$L32,$D$5:$D$105))} -> 0
J33: =H33*I33 -> 0 | L33: Household | N33: {=SUM(IF($B$5:$B$105=$L33,$D$5:$D$105))} -> 0
J34: =H34*I34 -> 0 | L34: Maintenance | N34: {=SUM(IF($B$5:$B$105=$L34,$D$5:$D$105))} -> 0
J35: =H35*I35 -> 0 | L35: Taxes | N35: {=SUM(IF($B$5:$B$105=$L35,$D$5:$D$105))} -> 0
J36: =H36*I36 -> 0 | L36: Insurance | N36: {=SUM(IF($B$5:$B$105=$L36,$D$5:$D$105))} -> 0
J37: =H37*I37 -> 0 | L37: Gas | N37: {=SUM(IF($B$5:$B$105=$L37,$D$5:$D$105))} -> 0
J38: =H38*I38 -> 0 | L38: Water | N38: {=SUM(IF($B$5:$B$105=$L38,$D$5:$D$105))} -> 0
J39: =H39*I39 -> 0 | L39: Electricity | N39: {=SUM(IF($B$5:$B$105=$L39,$D$5:$D$105))} -> 0
J40: =H40*I40 -> 0 | L40: Wifi/Mobile | N40: {=SUM(IF($B$5:$B$105=$L40,$D$5:$D$105))} -> 0
J41: =H41*I41 -> 0 | L41: Transport | N41: {=SUM(IF($B$5:$B$105=$L41,$D$5:$D$105))} -> 0
J42: =H42*I42 -> 0 | L42: Health | N42: {=SUM(IF($B$5:$B$105=$L42,$D$5:$D$105))} -> 0
J43: =H43*I43 -> 0 | L43: Clothes/Shoes | N43: {=SUM(IF($B$5:$B$105=$L43,$D$5:$D$105))} -> 0
... J45: =H45*I45 -> 0 | L45: Quality Time/Treat Yourself | N45: {=SUM(IF($B$5:$B$105=$L45,$D$5:$D$105))} -> 0
J46: =H46*I46 -> 0
J47: =H47*I47 -> 0 | L47: Savings | N47: {=SUM(IF($B$5:$B$105=$L47,$D$5:$D$105))} -> 0
J48: =H48*I48 -> 0 | L48: Gifts | N48: {=SUM(IF($B$5:$B$105=$L48,$D$5:$D$105))} -> 0
J49: =H49*I49 -> 0
J50: =H50*I50 -> 0
J51: =H51*I51 -> 0
J52: =H52*I52 -> 0
J53: =H53*I53 -> 0
J54: =H54*I54 -> 0
J55: =H55*I55 -> 0
J56: =H56*I56 -> 0
J57: =H57*I57 -> 0
J58: =H58*I58 -> 0
J59: =H59*I59 -> 0
J60: =H60*I60 -> 0
... J105: =H105*I105 -> 0
C106: TOTAAL | D106: =SUM(D5:D105) -> 0 | H106: TOTAAL | J106: =SUM(J5:J105) -> 0

Sheet August
A1: August
A3: PURCHASES | F3: GROCERIES | L3: BUDGET DISTRIBUTION
A4: Date | B4: Type | C4: Product/service | D4: € | F4: Product | G4: Group | H4: €/unit | I4: Units | J4: € | L4: Spending | M4: {=(SUM(IF(B5:B105="Savings",0,D5:D105)))/D106} -> #DIV/0! | N4: Saving | O4: {=(SUM(IF(B5:B105="Savings",D5:D105,0)))/D106} -> #DIV/0!
J5: =H5*I5 -> 0 | P5: Food | Q5: {=(SUM(IF(G5:G105="Food",J5:J105,0)))/J106} -> #DIV/0!
J6: =H6*I6 -> 0 | P6: Snacks | Q6: {=(SUM(IF(G5:G105="Snacks",J5:J105,0)))/J106} -> #DIV/0!
J7: =H7*I7 -> 0 | P7: Non-food | Q7: {=(SUM(IF(G5:G105="Non-food",J5:J105,0)))/J106} -> #DIV/0!
J8: =H8*I8 -> 0
J9: =H9*I9 -> 0
J10: =H10*I10 -> 0
J11: =H11*I11 -> 0
J12: =H12*I12 -> 0
J13: =H13*I13 -> 0
J14: =H14*I14 -> 0 | L14: GROCERIES DISTRIBUTION
J15: =H15*I15 -> 0
J16: =H16*I16 -> 0
J17: =H17*I17 -> 0
J18: =H18*I18 -> 0
J19: =H19*I19 -> 0
J20: =H20*I20 -> 0
J21: =H21*I21 -> 0
J22: =H22*I22 -> 0
J23: =H23*I23 -> 0
J24: =H24*I24 -> 0 | L24: CASHFLOW
J25: =H25*I25 -> 0 | L25: Budget
J26: =H26*I26 -> 0 | L26: Previous Endbalance | N26: =July!N28 -> 0
J27: =H27*I27 -> 0 | L27: Spend | N27: =D106 -> 0
J28: =H28*I28 -> 0 | L28: Left | N28: =N25+N26-N27 -> 0
J29: =H29*I29 -> 0
J30: =H30*I30 -> 0
J31: =H31*I31 -> 0 | L31: TOTAL PURCHASES
J32: =H32*I32 -> 0 | L32: Groceries | N32: {=SUM(IF($B$5:$B$105=$L32,$D$5:$D$105))} -> 0
J33: =H33*I33 -> 0 | L33: Household | N33: {=SUM(IF($B$5:$B$105=$L33,$D$5:$D$105))} -> 0
J34: =H34*I34 -> 0 | L34: Maintenance | N34: {=SUM(IF($B$5:$B$105=$L34,$D$5:$D$105))} -> 0
J35: =H35*I35 -> 0 | L35: Taxes | N35: {=SUM(IF($B$5:$B$105=$L35,$D$5:$D$105))} -> 0
J36: =H36*I36 -> 0 | L36: Insurance | N36: {=SUM(IF($B$5:$B$105=$L36,$D$5:$D$105))} -> 0
J37: =H37*I37 -> 0 | L37: Gas | N37: {=SUM(IF($B$5:$B$105=$L37,$D$5:$D$105))} -> 0
J38: =H38*I38 -> 0 | L38: Water | N38: {=SUM(IF($B$5:$B$105=$L38,$D$5:$D$105))} -> 0
J39: =H39*I39 -> 0 | L39: Electricity | N39: {=SUM(IF($B$5:$B$105=$L39,$D$5:$D$105))} -> 0
J40: =H40*I40 -> 0 | L40: Wifi/Mobile | N40: {=SUM(IF($B$5:$B$105=$L40,$D$5:$D$105))} -> 0
J41: =H41*I41 -> 0 | L41: Transport | N41: {=SUM(IF($B$5:$B$105=$L41,$D$5:$D$105))} -> 0
J42: =H42*I42 -> 0 | L42: Health | N42: {=SUM(IF($B$5:$B$105=$L42,$D$5:$D$105))} -> 0
J43: =H43*I43 -> 0 | L43: Clothes/Shoes | N43: {=SUM(IF($B$5:$B$105=$L43,$D$5:$D$105))} -> 0
... J45: =H45*I45 -> 0 | L45: Quality Time/Treat Yourself | N45: {=SUM(IF($B$5:$B$105=$L45,$D$5:$D$105))} -> 0
J46: =H46*I46 -> 0
J47: =H47*I47 -> 0 | L47: Savings | N47: {=SUM(IF($B$5:$B$105=$L47,$D$5:$D$105))} -> 0
J48: =H48*I48 -> 0 | L48: Gifts | N48: {=SUM(IF($B$5:$B$105=$L48,$D$5:$D$105))} -> 0
J49: =H49*I49 -> 0
J50: =H50*I50 -> 0
J51: =H51*I51 -> 0
J52: =H52*I52 -> 0
J53: =H53*I53 -> 0
J54: =H54*I54 -> 0
J55: =H55*I55 -> 0
J56: =H56*I56 -> 0
J57: =H57*I57 -> 0
J58: =H58*I58 -> 0
J59: =H59*I59 -> 0
J60: =H60*I60 -> 0
... J105: =H105*I105 -> 0
C106: TOTAAL | D106: =SUM(D5:D105) -> 0 | H106: TOTAAL | J106: =SUM(J5:J105) -> 0

Sheet September
A1: September
A3: PURCHASES | F3: GROCERIES | L3: BUDGET DISTRIBUTION
A4: Date | B4: Type | C4: Product/service | D4: € | F4: Product | G4: Group | H4: €/unit | I4: Units | J4: € | L4: Spending | M4: {=(SUM(IF(B5:B105="Savings",0,D5:D105)))/D106} -> #DIV/0! | N4: Saving | O4: {=(SUM(IF(B5:B105="Savings",D5:D105,0)))/D106} -> #DIV/0!
J5: =H5*I5 -> 0 | P5: Food | Q5: {=(SUM(IF(G5:G105="Food",J5:J105,0)))/J106} -> #DIV/0!
J6: =H6*I6 -> 0 | P6: Snacks | Q6: {=(SUM(IF(G5:G105="Snacks",J5:J105,0)))/J106} -> #DIV/0!
J7: =H7*I7 -> 0 | P7: Non-food | Q7: {=(SUM(IF(G5:G105="Non-food",J5:J105,0)))/J106} -> #DIV/0!
J8: =H8*I8 -> 0
J9: =H9*I9 -> 0
J10: =H10*I10 -> 0
J11: =H11*I11 -> 0
J12: =H12*I12 -> 0
J13: =H13*I13 -> 0
J14: =H14*I14 -> 0 | L14: GROCERIES DISTRIBUTION
J15: =H15*I15 -> 0
J16: =H16*I16 -> 0
J17: =H17*I17 -> 0
J18: =H18*I18 -> 0
J19: =H19*I19 -> 0
J20: =H20*I20 -> 0
J21: =H21*I21 -> 0
J22: =H22*I22 -> 0
J23: =H23*I23 -> 0
J24: =H24*I24 -> 0 | L24: CASHFLOW
J25: =H25*I25 -> 0 | L25: Budget
J26: =H26*I26 -> 0 | L26: Previous Endbalance | N26: =August!N28 -> 0
J27: =H27*I27 -> 0 | L27: Spend | N27: =D106 -> 0
J28: =H28*I28 -> 0 | L28: Left | N28: =N25+N26-N27 -> 0
J29: =H29*I29 -> 0
J30: =H30*I30 -> 0
J31: =H31*I31 -> 0 | L31: TOTAL PURCHASES
J32: =H32*I32 -> 0 | L32: Groceries | N32: {=SUM(IF($B$5:$B$105=$L32,$D$5:$D$105))} -> 0
J33: =H33*I33 -> 0 | L33: Household | N33: {=SUM(IF($B$5:$B$105=$L33,$D$5:$D$105))} -> 0
J34: =H34*I34 -> 0 | L34: Maintenance | N34: {=SUM(IF($B$5:$B$105=$L34,$D$5:$D$105))} -> 0
J35: =H35*I35 -> 0 | L35: Taxes | N35: {=SUM(IF($B$5:$B$105=$L35,$D$5:$D$105))} -> 0
J36: =H36*I36 -> 0 | L36: Insurance | N36: {=SUM(IF($B$5:$B$105=$L36,$D$5:$D$105))} -> 0
J37: =H37*I37 -> 0 | L37: Gas | N37: {=SUM(IF($B$5:$B$105=$L37,$D$5:$D$105))} -> 0
J38: =H38*I38 -> 0 | L38: Water | N38: {=SUM(IF($B$5:$B$105=$L38,$D$5:$D$105))} -> 0
J39: =H39*I39 -> 0 | L39: Electricity | N39: {=SUM(IF($B$5:$B$105=$L39,$D$5:$D$105))} -> 0
J40: =H40*I40 -> 0 | L40: Wifi/Mobile | N40: {=SUM(IF($B$5:$B$105=$L40,$D$5:$D$105))} -> 0
J41: =H41*I41 -> 0 | L41: Transport | N41: {=SUM(IF($B$5:$B$105=$L41,$D$5:$D$105))} -> 0
J42: =H42*I42 -> 0 | L42: Health | N42: {=SUM(IF($B$5:$B$105=$L42,$D$5:$D$105))} -> 0
J43: =H43*I43 -> 0 | L43: Clothes/Shoes | N43: {=SUM(IF($B$5:$B$105=$L43,$D$5:$D$105))} -> 0
... J45: =H45*I45 -> 0 | L45: Quality Time/Treat Yourself | N45: {=SUM(IF($B$5:$B$105=$L45,$D$5:$D$105))} -> 0
J46: =H46*I46 -> 0
J47: =H47*I47 -> 0 | L47: Savings | N47: {=SUM(IF($B$5:$B$105=$L47,$D$5:$D$105))} -> 0
J48: =H48*I48 -> 0 | L48: Gifts | N48: {=SUM(IF($B$5:$B$105=$L48,$D$5:$D$105))} -> 0
J49: =H49*I49 -> 0
J50: =H50*I50 -> 0
J51: =H51*I51 -> 0
J52: =H52*I52 -> 0
J53: =H53*I53 -> 0
J54: =H54*I54 -> 0
J55: =H55*I55 -> 0
J56: =H56*I56 -> 0
J57: =H57*I57 -> 0
J58: =H58*I58 -> 0
J59: =H59*I59 -> 0
J60: =H60*I60 -> 0
... J105: =H105*I105 -> 0
C106: TOTAAL | D106: =SUM(D5:D105) -> 0 | H106: TOTAAL | J106: =SUM(J5:J105) -> 0

Sheet October
A1: October
A3: PURCHASES | F3: GROCERIES | L3: BUDGET DISTRIBUTION
A4: Date | B4: Type | C4: Product/service | D4: € | F4: Product | G4: Group | H4: €/unit | I4: Units | J4: € | L4: Spending | M4: {=(SUM(IF(B5:B105="Savings",0,D5:D105)))/D106} -> #DIV/0! | N4: Saving | O4: {=(SUM(IF(B5:B105="Savings",D5:D105,0)))/D106} -> #DIV/0!
J5: =H5*I5 -> 0 | P5: Food | Q5: {=(SUM(IF(G5:G105="Food",J5:J105,0)))/J106} -> #DIV/0!
J6: =H6*I6 -> 0 | P6: Snacks | Q6: {=(SUM(IF(G5:G105="Snacks",J5:J105,0)))/J106} -> #DIV/0!
J7: =H7*I7 -> 0 | P7: Non-food | Q7: {=(SUM(IF(G5:G105="Non-food",J5:J105,0)))/J106} -> #DIV/0!
J8: =H8*I8 -> 0
J9: =H9*I9 -> 0
J10: =H10*I10 -> 0
J11: =H11*I11 -> 0
J12: =H12*I12 -> 0
J13: =H13*I13 -> 0
J14: =H14*I14 -> 0 | L14: GROCERIES DISTRIBUTION
J15: =H15*I15 -> 0
J16: =H16*I16 -> 0
J17: =H17*I17 -> 0
J18: =H18*I18 -> 0
J19: =H19*I19 -> 0
J20: =H20*I20 -> 0
J21: =H21*I21 -> 0
J22: =H22*I22 -> 0
J23: =H23*I23 -> 0
J24: =H24*I24 -> 0 | L24: CASHFLOW
J25: =H25*I25 -> 0 | L25: Budget
J26: =H26*I26 -> 0 | L26: Previous Endbalance | N26: =September!N28 -> 0
J27: =H27*I27 -> 0 | L27: Spend | N27: =D106 -> 0
J28: =H28*I28 -> 0 | L28: Left | N28: =N25+N26-N27 -> 0
J29: =H29*I29 -> 0
J30: =H30*I30 -> 0
J31: =H31*I31 -> 0 | L31: TOTAL PURCHASES
J32: =H32*I32 -> 0 | L32: Groceries | N32: {=SUM(IF($B$5:$B$105=$L32,$D$5:$D$105))} -> 0
J33: =H33*I33 -> 0 | L33: Household | N33: {=SUM(IF($B$5:$B$105=$L33,$D$5:$D$105))} -> 0
J34: =H34*I34 -> 0 | L34: Maintenance | N34: {=SUM(IF($B$5:$B$105=$L34,$D$5:$D$105))} -> 0
J35: =H35*I35 -> 0 | L35: Taxes | N35: {=SUM(IF($B$5:$B$105=$L35,$D$5:$D$105))} -> 0
J36: =H36*I36 -> 0 | L36: Insurance | N36: {=SUM(IF($B$5:$B$105=$L36,$D$5:$D$105))} -> 0
J37: =H37*I37 -> 0 | L37: Gas | N37: {=SUM(IF($B$5:$B$105=$L37,$D$5:$D$105))} -> 0
J38: =H38*I38 -> 0 | L38: Water | N38: {=SUM(IF($B$5:$B$105=$L38,$D$5:$D$105))} -> 0
J39: =H39*I39 -> 0 | L39: Electricity | N39: {=SUM(IF($B$5:$B$105=$L39,$D$5:$D$105))} -> 0
J40: =H40*I40 -> 0 | L40: Wifi/Mobile | N40: {=SUM(IF($B$5:$B$105=$L40,$D$5:$D$105))} -> 0
J41: =H41*I41 -> 0 | L41: Transport | N41: {=SUM(IF($B$5:$B$105=$L41,$D$5:$D$105))} -> 0
J42: =H42*I42 -> 0 | L42: Health | N42: {=SUM(IF($B$5:$B$105=$L42,$D$5:$D$105))} -> 0
J43: =H43*I43 -> 0 | L43: Clothes/Shoes | N43: {=SUM(IF($B$5:$B$105=$L43,$D$5:$D$105))} -> 0
... J45: =H45*I45 -> 0 | L45: Quality Time/Treat Yourself | N45: {=SUM(IF($B$5:$B$105=$L45,$D$5:$D$105))} -> 0
J46: =H46*I46 -> 0
J47: =H47*I47 -> 0 | L47: Savings | N47: {=SUM(IF($B$5:$B$105=$L47,$D$5:$D$105))} -> 0
J48: =H48*I48 -> 0 | L48: Gifts | N48: {=SUM(IF($B$5:$B$105=$L48,$D$5:$D$105))} -> 0
J49: =H49*I49 -> 0
J50: =H50*I50 -> 0
J51: =H51*I51 -> 0
J52: =H52*I52 -> 0
J53: =H53*I53 -> 0
J54: =H54*I54 -> 0
J55: =H55*I55 -> 0
J56: =H56*I56 -> 0
J57: =H57*I57 -> 0
J58: =H58*I58 -> 0
J59: =H59*I59 -> 0
J60: =H60*I60 -> 0
... J105: =H105*I105 -> 0
C106: TOTAAL | D106: =SUM(D5:D105) -> 0 | H106: TOTAAL | J106: =SUM(J5:J105) -> 0

Sheet November
A1: November
A3: PURCHASES | F3: GROCERIES | L3: BUDGET DISTRIBUTION
A4: Date | B4: Type | C4: Product/service | D4: € | F4: Product | G4: Group | H4: €/unit | I4: Units | J4: € | L4: Spending | M4: {=(SUM(IF(B5:B105="Savings",0,D5:D105)))/D106} -> #DIV/0! | N4: Saving | O4: {=(SUM(IF(B5:B105="Savings",D5:D105,0)))/D106} -> #DIV/0!
J5: =H5*I5 -> 0 | P5: Food | Q5: {=(SUM(IF(G5:G105="Food",J5:J105,0)))/J106} -> #DIV/0!
J6: =H6*I6 -> 0 | P6: Snacks | Q6: {=(SUM(IF(G5:G105="Snacks",J5:J105,0)))/J106} -> #DIV/0!
J7: =H7*I7 -> 0 | P7: Non-food | Q7: {=(SUM(IF(G5:G105="Non-food",J5:J105,0)))/J106} -> #DIV/0!
J8: =H8*I8 -> 0
J9: =H9*I9 -> 0
J10: =H10*I10 -> 0
J11: =H11*I11 -> 0
J12: =H12*I12 -> 0
J13: =H13*I13 -> 0
J14: =H14*I14 -> 0 | L14: GROCERIES DISTRIBUTION
J15: =H15*I15 -> 0
J16: =H16*I16 -> 0
J17: =H17*I17 -> 0
J18: =H18*I18 -> 0
J19: =H19*I19 -> 0
J20: =H20*I20 -> 0
J21: =H21*I21 -> 0
J22: =H22*I22 -> 0
J23: =H23*I23 -> 0
J24: =H24*I24 -> 0 | L24: CASHFLOW
J25: =H25*I25 -> 0 | L25: Budget
J26: =H26*I26 -> 0 | L26: Previous Endbalance | N26: =October!N28 -> 0
J27: =H27*I27 -> 0 | L27: Spend | N27: =D106 -> 0
J28: =H28*I28 -> 0 | L28: Left | N28: =N25+N26-N27 -> 0
J29: =H29*I29 -> 0
J30: =H30*I30 -> 0
J31: =H31*I31 -> 0 | L31: TOTAL PURCHASES
J32: =H32*I32 -> 0 | L32: Groceries | N32: {=SUM(IF($B$5:$B$105=$L32,$D$5:$D$105))} -> 0
J33: =H33*I33 -> 0 | L33: Household | N33: {=SUM(IF($B$5:$B$105=$L33,$D$5:$D$105))} -> 0
J34: =H34*I34 -> 0 | L34: Maintenance | N34: {=SUM(IF($B$5:$B$105=$L34,$D$5:$D$105))} -> 0
J35: =H35*I35 -> 0 | L35: Taxes | N35: {=SUM(IF($B$5:$B$105=$L35,$D$5:$D$105))} -> 0
J36: =H36*I36 -> 0 | L36: Insurance | N36: {=SUM(IF($B$5:$B$105=$L36,$D$5:$D$105))} -> 0
J37: =H37*I37 -> 0 | L37: Gas | N37: {=SUM(IF($B$5:$B$105=$L37,$D$5:$D$105))} -> 0
J38: =H38*I38 -> 0 | L38: Water | N38: {=SUM(IF($B$5:$B$105=$L38,$D$5:$D$105))} -> 0
J39: =H39*I39 -> 0 | L39: Electricity | N39: {=SUM(IF($B$5:$B$105=$L39,$D$5:$D$105))} -> 0
J40: =H40*I40 -> 0 | L40: Wifi/Mobile | N40: {=SUM(IF($B$5:$B$105=$L40,$D$5:$D$105))} -> 0
J41: =H41*I41 -> 0 | L41: Transport | N41: {=SUM(IF($B$5:$B$105=$L41,$D$5:$D$105))} -> 0
J42: =H42*I42 -> 0 | L42: Health | N42: {=SUM(IF($B$5:$B$105=$L42,$D$5:$D$105))} -> 0
J43: =H43*I43 -> 0 | L43: Clothes/Shoes | N43: {=SUM(IF($B$5:$B$105=$L43,$D$5:$D$105))} -> 0
... J45: =H45*I45 -> 0 | L45: Quality Time/Treat Yourself | N45: {=SUM(IF($B$5:$B$105=$L45,$D$5:$D$105))} -> 0
J46: =H46*I46 -> 0
J47: =H47*I47 -> 0 | L47: Savings | N47: {=SUM(IF($B$5:$B$105=$L47,$D$5:$D$105))} -> 0
J48: =H48*I48 -> 0 | L48: Gifts | N48: {=SUM(IF($B$5:$B$105=$L48,$D$5:$D$105))} -> 0
J49: =H49*I49 -> 0
J50: =H50*I50 -> 0
J51: =H51*I51 -> 0
J52: =H52*I52 -> 0
J53: =H53*I53 -> 0
J54: =H54*I54 -> 0
J55: =H55*I55 -> 0
J56: =H56*I56 -> 0
J57: =H57*I57 -> 0
J58: =H58*I58 -> 0
J59: =H59*I59 -> 0
J60: =H60*I60 -> 0
... J105: =H105*I105 -> 0
C106: TOTAAL | D106: =SUM(D5:D105) -> 0 | H106: TOTAAL | J106: =SUM(J5:J105) -> 0

Sheet December
A1: December
A3: PURCHASES | F3: GROCERIES | L3: BUDGET DISTRIBUTION
A4: Date | B4: Type | C4: Product/service | D4: € | F4: Product | G4: Group | H4: €/unit | I4: Units | J4: € | L4: Spending | M4: {=(SUM(IF(B5:B105="Savings",0,D5:D105)))/D106} -> #DIV/0! | N4: Saving | O4: {=(SUM(IF(B5:B105="Savings",D5:D105,0)))/D106} -> #DIV/0!
J5: =H5*I5 -> 0 | P5: Food | Q5: {=(SUM(IF(G5:G105="Food",J5:J105,0)))/J106} -> #DIV/0!
J6: =H6*I6 -> 0 | P6: Snacks | Q6: {=(SUM(IF(G5:G105="Snacks",J5:J105,0)))/J106} -> #DIV/0!
J7: =H7*I7 -> 0 | P7: Non-food | Q7: {=(SUM(IF(G5:G105="Non-food",J5:J105,0)))/J106} -> #DIV/0!
J8: =H8*I8 -> 0
J9: =H9*I9 -> 0
J10: =H10*I10 -> 0
J11: =H11*I11 -> 0
J12: =H12*I12 -> 0
J13: =H13*I13 -> 0
J14: =H14*I14 -> 0 | L14: GROCERIES DISTRIBUTION
J15: =H15*I15 -> 0
J16: =H16*I16 -> 0
J17: =H17*I17 -> 0
J18: =H18*I18 -> 0
J19: =H19*I19 -> 0
J20: =H20*I20 -> 0
J21: =H21*I21 -> 0
J22: =H22*I22 -> 0
J23: =H23*I23 -> 0
J24: =H24*I24 -> 0 | L24: CASHFLOW
J25: =H25*I25 -> 0 | L25: Budget
J26: =H26*I26 -> 0 | L26: Previous Endbalance | N26: =November!N28 -> 0
J27: =H27*I27 -> 0 | L27: Spend | N27: =D106 -> 0
J28: =H28*I28 -> 0 | L28: Left | N28: =N25+N26-N27 -> 0
J29: =H29*I29 -> 0
J30: =H30*I30 -> 0
J31: =H31*I31 -> 0 | L31: TOTAL PURCHASES
J32: =H32*I32 -> 0 | L32: Groceries | N32: {=SUM(IF($B$5:$B$105=$L32,$D$5:$D$105))} -> 0
J33: =H33*I33 -> 0 | L33: Household | N33: {=SUM(IF($B$5:$B$105=$L33,$D$5:$D$105))} -> 0
J34: =H34*I34 -> 0 | L34: Maintenance | N34: {=SUM(IF($B$5:$B$105=$L34,$D$5:$D$105))} -> 0
J35: =H35*I35 -> 0 | L35: Taxes | N35: {=SUM(IF($B$5:$B$105=$L35,$D$5:$D$105))} -> 0
J36: =H36*I36 -> 0 | L36: Insurance | N36: {=SUM(IF($B$5:$B$105=$L36,$D$5:$D$105))} -> 0
J37: =H37*I37 -> 0 | L37: Gas | N37: {=SUM(IF($B$5:$B$105=$L37,$D$5:$D$105))} -> 0
J38: =H38*I38 -> 0 | L38: Water | N38: {=SUM(IF($B$5:$B$105=$L38,$D$5:$D$105))} -> 0
J39: =H39*I39 -> 0 | L39: Electricity | N39: {=SUM(IF($B$5:$B$105=$L39,$D$5:$D$105))} -> 0
J40: =H40*I40 -> 0 | L40: Wifi/Mobile | N40: {=SUM(IF($B$5:$B$105=$L40,$D$5:$D$105))} -> 0
J41: =H41*I41 -> 0 | L41: Transport | N41: {=SUM(IF($B$5:$B$105=$L41,$D$5:$D$105))} -> 0
J42: =H42*I42 -> 0 | L42: Health | N42: {=SUM(IF($B$5:$B$105=$L42,$D$5:$D$105))} -> 0
J43: =H43*I43 -> 0 | L43: Clothes/Shoes | N43: {=SUM(IF($B$5:$B$105=$L43,$D$5:$D$105))} -> 0
... J45: =H45*I45 -> 0 | L45: Quality Time/Treat Yourself | N45: {=SUM(IF($B$5:$B$105=$L45,$D$5:$D$105))} -> 0
J46: =H46*I46 -> 0
J47: =H47*I47 -> 0 | L47: Savings | N47: {=SUM(IF($B$5:$B$105=$L47,$D$5:$D$105))} -> 0
J48: =H48*I48 -> 0 | L48: Gifts | N48: {=SUM(IF($B$5:$B$105=$L48,$D$5:$D$105))} -> 0
J49: =H49*I49 -> 0
J50: =H50*I50 -> 0
J51: =H51*I51 -> 0
J52: =H52*I52 -> 0
J53: =H53*I53 -> 0
J54: =H54*I54 -> 0
J55: =H55*I55 -> 0
J56: =H56*I56 -> 0
J57: =H57*I57 -> 0
J58: =H58*I58 -> 0
J59: =H59*I59 -> 0
J60: =H60*I60 -> 0
... J105: =H105*I105 -> 0
C106: TOTAAL | D106: =SUM(D5:D105) -> 0 | H106: TOTAAL | J106: =SUM(J5:J105) -> 0
